BEGIN:VCALENDAR
VERSION:2.0
PRODID:-//Agenda Cofrade 365 Días - ECPv6.3.7//NONSGML v1.0//EN
CALSCALE:GREGORIAN
METHOD:PUBLISH
X-ORIGINAL-URL:https://cordobacapitalcofrade.com
X-WR-CALDESC:Eventos para Agenda Cofrade 365 Días
REFRESH-INTERVAL;VALUE=DURATION:PT1H
X-Robots-Tag:noindex
X-PUBLISHED-TTL:PT1H
BEGIN:VTIMEZONE
TZID:UTC
BEGIN:STANDARD
TZOFFSETFROM:+0000
TZOFFSETTO:+0000
TZNAME:UTC
DTSTART:20250101T000000
END:STANDARD
END:VTIMEZONE
BEGIN:VEVENT
DTSTART;TZID=UTC:20251011T193000
DTEND;TZID=UTC:20251011T231600
DTSTAMP:20260425T113354
CREATED:20250925T152344Z
LAST-MODIFIED:20250925T152344Z
UID:6687-1760211000-1760224560@cordobacapitalcofrade.com
SUMMARY:Nuestro Señor Jesucristo del Santo Sepulcro de El Carpio Magno Vía Crucis "Córdoba\, Vía Sacra de Occidente
DESCRIPTION:Nuestro Señor Jesucristo del Santo Sepulcro de El Carpio (Obra de Antonio Castillo Lastrucci en 1944) en el Magno Vía Crucis «Córdoba\, Vía Sacra de Occidente siguiendo este recorrido: \nSalida de la Basílica de San Pedro (19:30 horas)\, Plaza de San Pedro\, Escultor Juan de Mesa\, Plaza de la Almagra\, Plaza del Socorro (20:00 horas)\, Arco Bajo\, Plaza de la Corredera\, Arco Alto (20:30 horas)\, Rodríguez Marín\, Tundidores\, Fernando Colón\, Maese Luís (21:00 horas)\, Huerto de San Pedro el Real\, Compás de San Francisco\, San Fernando (21:30 horas)\, Cruz del Rastro\, Ronda de Isasa (22:00 horas)\, Triunfo. Santa Teresa Jornet (22:30 horas)\, Entrada C.O (22:46 horas)\, Amador de los Ríos\, Altar San Álvaro (22:51 horas)\, Torrijos\, Puerta del Perdón (23:06 horas)\, Puerta de las Cofradías (23:16 horas).  \n– Acompañamiento musical: Coro «Cantábile» de Córdoba.
URL:https://cordobacapitalcofrade.com/agenda/nuestro-senor-jesucristo-del-santo-sepulcro-de-el-carpio-magno-via-crucis-cordoba-via-sacra-de-occidente/
LOCATION:Basílica de San Pedro\, Pl. de San Pedro\, 1\, 14002 Córdoba\, Córdoba\, España
CATEGORIES:Procesión
ATTACH;FMTTYPE=image/jpeg:https://cordobacapitalcofrade.com/wp-content/uploads/2025/08/44901122_2186978348250552_2717024404830683136_n.jpg
END:VEVENT
END:VCALENDAR