BEGIN:VCALENDAR
VERSION:2.0
PRODID:-//Agenda Cofrade 365 Días - ECPv6.3.7//NONSGML v1.0//EN
CALSCALE:GREGORIAN
METHOD:PUBLISH
X-ORIGINAL-URL:https://cordobacapitalcofrade.com
X-WR-CALDESC:Eventos para Agenda Cofrade 365 Días
REFRESH-INTERVAL;VALUE=DURATION:PT1H
X-Robots-Tag:noindex
X-PUBLISHED-TTL:PT1H
BEGIN:VTIMEZONE
TZID:UTC
BEGIN:STANDARD
TZOFFSETFROM:+0000
TZOFFSETTO:+0000
TZNAME:UTC
DTSTART:20250101T000000
END:STANDARD
END:VTIMEZONE
BEGIN:VEVENT
DTSTART;TZID=UTC:20251017T191000
DTEND;TZID=UTC:20251017T211000
DTSTAMP:20260425T113407
CREATED:20250926T151904Z
LAST-MODIFIED:20250926T151924Z
UID:6716-1760728200-1760735400@cordobacapitalcofrade.com
SUMMARY:Traslado de vuelta de Nuestro Señor Jesucristo del Santo Sepulcro de El Carpio Magno Vía Crucis "Córdoba\, Vía Sacra de Occidente"
DESCRIPTION:Traslado de vuelta de Nuestro Señor Jesucristo del Santo Sepulcro de El Carpio Magno Vía Crucis «Córdoba\, Vía Sacra de Occidente» siguiendo este itinerario: \nSalida de la Mezquita-Catedral (19:10 horas)\, Patio de los Naranjos\, Puerta de Santa Catalina\, Magistral González Francés (19:30 horas)\, Cardenal González\, Cruz del Rastro (20:10 horas)\, Lucano\, Lineros (20:30 horas)\, Don Rodrigo\, Plaza de San Pedro y Entrada en la Basílica de San Pedro (21:10 horas).  \n– Acompañamiento musical: Coro «Cantábile» de Córdoba.
URL:https://cordobacapitalcofrade.com/agenda/traslado-de-vuelta-de-nuestro-senor-jesucristo-del-santo-sepulcro-de-el-carpio-magno-via-crucis-cordoba-via-sacra-de-occidente/
LOCATION:Santa Iglesia Catedral de Córdoba\, C. Cardenal Herrero\, 1\, Córdoba\, España
CATEGORIES:Procesión
ATTACH;FMTTYPE=image/jpeg:https://cordobacapitalcofrade.com/wp-content/uploads/2025/08/44901122_2186978348250552_2717024404830683136_n.jpg
END:VEVENT
END:VCALENDAR