BEGIN:VCALENDAR
VERSION:2.0
PRODID:-//Agenda Cofrade 365 Días - ECPv6.3.7//NONSGML v1.0//EN
CALSCALE:GREGORIAN
METHOD:PUBLISH
X-ORIGINAL-URL:https://cordobacapitalcofrade.com
X-WR-CALDESC:Eventos para Agenda Cofrade 365 Días
REFRESH-INTERVAL;VALUE=DURATION:PT1H
X-Robots-Tag:noindex
X-PUBLISHED-TTL:PT1H
BEGIN:VTIMEZONE
TZID:UTC
BEGIN:STANDARD
TZOFFSETFROM:+0000
TZOFFSETTO:+0000
TZNAME:UTC
DTSTART:20250101T000000
END:STANDARD
END:VTIMEZONE
BEGIN:VEVENT
DTSTART;TZID=UTC:20250918T200000
DTEND;TZID=UTC:20250920T211500
DTSTAMP:20260424T125212
CREATED:20250816T124626Z
LAST-MODIFIED:20250816T124626Z
UID:6741-1758225600-1758402900@cordobacapitalcofrade.com
SUMMARY:Solemne Triduo en honor de Nuestra Señora del Socorro Coronada
DESCRIPTION:Solemne Triduo en honor de Nuestra Señora del Socorro Coronada\, a las 20:00 horas en la Ermita del Socorro.
URL:https://cordobacapitalcofrade.com/agenda/solemne-triduo-en-honor-de-nuestra-senora-del-socorro-coronada/
LOCATION:Ermita del Socorro\, Plaza del Socorro\, 1\, Córdoba\, Córdoba\, 14002\, España
CATEGORIES:Cultos
ATTACH;FMTTYPE=image/jpeg:https://cordobacapitalcofrade.com/wp-content/uploads/2025/08/470684454_18455505829067612_8854399913133113664_n.jpg
END:VEVENT
END:VCALENDAR