BEGIN:VCALENDAR
VERSION:2.0
PRODID:-//Agenda Cofrade 365 Días - ECPv6.3.7//NONSGML v1.0//EN
CALSCALE:GREGORIAN
METHOD:PUBLISH
X-ORIGINAL-URL:https://cordobacapitalcofrade.com
X-WR-CALDESC:Eventos para Agenda Cofrade 365 Días
REFRESH-INTERVAL;VALUE=DURATION:PT1H
X-Robots-Tag:noindex
X-PUBLISHED-TTL:PT1H
BEGIN:VTIMEZONE
TZID:UTC
BEGIN:STANDARD
TZOFFSETFROM:+0000
TZOFFSETTO:+0000
TZNAME:UTC
DTSTART:20250101T000000
END:STANDARD
END:VTIMEZONE
BEGIN:VEVENT
DTSTART;TZID=UTC:20250921T120000
DTEND;TZID=UTC:20250921T130000
DTSTAMP:20260424T070712
CREATED:20250816T125659Z
LAST-MODIFIED:20250816T125659Z
UID:6744-1758456000-1758459600@cordobacapitalcofrade.com
SUMMARY:Fiesta de Regla de la Hermandad del Socorro
DESCRIPTION:Fiesta de Regla de la Hermandad\, a las 12:00 horas en la Ermita del Socorro.
URL:https://cordobacapitalcofrade.com/agenda/fiesta-de-regla-de-la-hermandad-del-socorro/
LOCATION:Ermita del Socorro\, Plaza del Socorro\, 1\, Córdoba\, Córdoba\, 14002\, España
CATEGORIES:Cultos
ATTACH;FMTTYPE=image/jpeg:https://cordobacapitalcofrade.com/wp-content/uploads/2025/08/470684454_18455505829067612_8854399913133113664_n-1.jpg
END:VEVENT
END:VCALENDAR