BEGIN:VCALENDAR
VERSION:2.0
PRODID:-//Agenda Cofrade 365 Días - ECPv6.3.7//NONSGML v1.0//EN
CALSCALE:GREGORIAN
METHOD:PUBLISH
X-WR-CALNAME:Agenda Cofrade 365 Días
X-ORIGINAL-URL:https://cordobacapitalcofrade.com
X-WR-CALDESC:Eventos para Agenda Cofrade 365 Días
REFRESH-INTERVAL;VALUE=DURATION:PT1H
X-Robots-Tag:noindex
X-PUBLISHED-TTL:PT1H
BEGIN:VTIMEZONE
TZID:UTC
BEGIN:STANDARD
TZOFFSETFROM:+0000
TZOFFSETTO:+0000
TZNAME:UTC
DTSTART:20240101T000000
END:STANDARD
END:VTIMEZONE
BEGIN:VEVENT
DTSTART;TZID=UTC:20240812T195000
DTEND;TZID=UTC:20240814T210000
DTSTAMP:20260424T160134
CREATED:20240812T122237Z
LAST-MODIFIED:20240812T123225Z
UID:3183-1723492200-1723669200@cordobacapitalcofrade.com
SUMMARY:Solemne Triduo de Nuestra Señora del Tránsito
DESCRIPTION:Solemne Triduo de Nuestra Señora del Tránsito a las 20:30 horas en la Parroquia de Nuestra Señora de la Paz (San Basilio). Previamente\, a las 19:50 horas\, Exposición del Santísimo y Rezo del Santo Rosario.
URL:https://cordobacapitalcofrade.com/agenda/solemne-triduo-de-nuestra-senora-del-transito/
LOCATION:Parroquia de Nuestra Señora de la Paz\, Córdoba\, C/San Basilio\, Córdoba\, España
CATEGORIES:Cultos
ATTACH;FMTTYPE=image/jpeg:https://cordobacapitalcofrade.com/wp-content/uploads/2024/08/57b673cd-9540-41aa-9b99-766f0fb06900_source-aspect-ratio_default_0.jpg
END:VEVENT
END:VCALENDAR