BEGIN:VCALENDAR
VERSION:2.0
PRODID:-//Agenda Cofrade 365 Días - ECPv6.3.7//NONSGML v1.0//EN
CALSCALE:GREGORIAN
METHOD:PUBLISH
X-WR-CALNAME:Agenda Cofrade 365 Días
X-ORIGINAL-URL:https://cordobacapitalcofrade.com
X-WR-CALDESC:Eventos para Agenda Cofrade 365 Días
REFRESH-INTERVAL;VALUE=DURATION:PT1H
X-Robots-Tag:noindex
X-PUBLISHED-TTL:PT1H
BEGIN:VTIMEZONE
TZID:UTC
BEGIN:STANDARD
TZOFFSETFROM:+0000
TZOFFSETTO:+0000
TZNAME:UTC
DTSTART:20240101T000000
END:STANDARD
END:VTIMEZONE
BEGIN:VEVENT
DTSTART;TZID=UTC:20240129T203000
DTEND;TZID=UTC:20240129T220000
DTSTAMP:20260424T201846
CREATED:20240129T155309Z
LAST-MODIFIED:20240129T155309Z
UID:2033-1706560200-1706565600@cordobacapitalcofrade.com
SUMMARY:Conferencia " "La fuerza evangelizadora de las Cofradías en el siglo XXI”
DESCRIPTION:Ciclo de Conferencias «Los Lunes del Vía Crucis» con la ponencia titulada «La fuerza evangelizadora de las Cofradías en el siglo XXI” a cargo de Dña. Paloma Saborido Sánchez\, Profesora de Derecho Civil de la Universidad de Málaga y Miembro de la Comisión del Jubileo de las Cofradías en Roma 2025. El acto tendrá lugar a las 20:30 horas en el Centro Parroquial «Carmen Márquez Criado».
URL:https://cordobacapitalcofrade.com/agenda/conferencia-la-fuerza-evangelizadora-de-las-cofradias-en-el-siglo-xxi/
LOCATION:Salones Parroquiales de la Trinidad\, C. Sánchez de Feria\, 13\, Córdoba\, España
CATEGORIES:Conferencia
ATTACH;FMTTYPE=image/jpeg:https://cordobacapitalcofrade.com/wp-content/uploads/2024/01/423248006_829658402533492_7920981153833078466_n.jpg
END:VEVENT
END:VCALENDAR