BEGIN:VCALENDAR
VERSION:2.0
PRODID:-//Agenda Cofrade 365 Días - ECPv6.3.7//NONSGML v1.0//EN
CALSCALE:GREGORIAN
METHOD:PUBLISH
X-WR-CALNAME:Agenda Cofrade 365 Días
X-ORIGINAL-URL:https://cordobacapitalcofrade.com
X-WR-CALDESC:Eventos para Agenda Cofrade 365 Días
REFRESH-INTERVAL;VALUE=DURATION:PT1H
X-Robots-Tag:noindex
X-PUBLISHED-TTL:PT1H
BEGIN:VTIMEZONE
TZID:UTC
BEGIN:STANDARD
TZOFFSETFROM:+0000
TZOFFSETTO:+0000
TZNAME:UTC
DTSTART:20250101T000000
END:STANDARD
END:VTIMEZONE
BEGIN:VEVENT
DTSTART;TZID=UTC:20250319T203000
DTEND;TZID=UTC:20250322T213000
DTSTAMP:20260419T184705
CREATED:20250312T170727Z
LAST-MODIFIED:20250312T170727Z
UID:5593-1742416200-1742679000@cordobacapitalcofrade.com
SUMMARY:Quinario conjunto Extraordinario del Santísimo Cristo de la Salud\, Nuestro Padre Jesús Nazareno de la Santa Faz y Nuestro Padre Jesús del Perdón
DESCRIPTION:Quinario conjunto Extraordinario del Santísimo Cristo de la Salud\, Nuestro Padre Jesús Nazareno de la Santa Faz y Nuestro Padre Jesús del Perdón\, a las 20:30 horas en la Parroquia de San Juan y Todos los Santos (Trinidad).
URL:https://cordobacapitalcofrade.com/agenda/quinario-conjunto-extraordinario-del-santisimo-cristo-de-la-salud-nuestro-padre-jesus-nazareno-de-la-santa-faz-y-nuestro-padre-jesus-del-perdon/
LOCATION:Parroquia de la Trinidad\, Plaza de la Trinidad\, Córdoba\, España
CATEGORIES:Cultos
ATTACH;FMTTYPE=image/webp:https://cordobacapitalcofrade.com/wp-content/uploads/2025/03/quinario-conjunto-trinidad-RvxfUxnAgz8ItqnhBs4I73N-1200x840@diario_abc.webp
END:VEVENT
BEGIN:VEVENT
DTSTART;TZID=UTC:20250321T211500
DTEND;TZID=UTC:20250321T221500
DTSTAMP:20260419T184705
CREATED:20250317T174725Z
LAST-MODIFIED:20250317T174725Z
UID:5654-1742591700-1742595300@cordobacapitalcofrade.com
SUMMARY:Concierto de Cuaresma a cargo de la Banda de Música "Tubamirum" de Cañete de las Torres (Córdoba).
DESCRIPTION:Concierto de Cuaresma a cargo de la Banda de Música «Tubamirum» de Cañete de las Torres (Córdoba) sobre las 21:15 horas en la Parroquia de San Juan y Todos los Santos (Trinidad).
URL:https://cordobacapitalcofrade.com/agenda/concierto-de-cuaresma-a-cargo-de-la-banda-de-musica-tubamirum-de-canete-de-las-torres-cordoba/
LOCATION:Parroquia de la Trinidad\, Plaza de la Trinidad\, Córdoba\, España
CATEGORIES:Conciertos
ATTACH;FMTTYPE=image/jpeg:https://cordobacapitalcofrade.com/wp-content/uploads/2025/03/concierto-tubamirum-trinidad-kGcB-1240x698@abc.jpg
END:VEVENT
END:VCALENDAR