BEGIN:VCALENDAR
VERSION:2.0
PRODID:-//Agenda Cofrade 365 Días - ECPv6.3.7//NONSGML v1.0//EN
CALSCALE:GREGORIAN
METHOD:PUBLISH
X-ORIGINAL-URL:https://cordobacapitalcofrade.com
X-WR-CALDESC:Eventos para Agenda Cofrade 365 Días
REFRESH-INTERVAL;VALUE=DURATION:PT1H
X-Robots-Tag:noindex
X-PUBLISHED-TTL:PT1H
BEGIN:VTIMEZONE
TZID:UTC
BEGIN:STANDARD
TZOFFSETFROM:+0000
TZOFFSETTO:+0000
TZNAME:UTC
DTSTART:20240101T000000
END:STANDARD
END:VTIMEZONE
BEGIN:VEVENT
DTSTART;TZID=UTC:20241001T190000
DTEND;TZID=UTC:20241003T203000
DTSTAMP:20260421T204036
CREATED:20240930T133949Z
LAST-MODIFIED:20240930T133949Z
UID:3629-1727809200-1727987400@cordobacapitalcofrade.com
SUMMARY:Solemne Triduo en honor de San Francisco de Asís
DESCRIPTION:Solemne Triduo en honor de San Francisco de Asís\, a las 20:00 horas en la Iglesia Conventual del Santo Ángel (Capuchinos). Previamente\, a las 19:00 horas Exposición del Santísimo Sacramento\, Rezo del Santo Rosario y Bendición.
URL:https://cordobacapitalcofrade.com/agenda/solemne-triduo-en-honor-de-san-francisco-de-asis/
LOCATION:Iglesia Conventual del Santo Ángel (Capuchinos)\, Pl. de Capuchinos\, 5\, Córdoba\, España
CATEGORIES:Cultos
ATTACH;FMTTYPE=image/jpeg:https://cordobacapitalcofrade.com/wp-content/uploads/2024/09/Exposicion-Pastoras-0076.jpg
END:VEVENT
BEGIN:VEVENT
DTSTART;TZID=UTC:20241004T200000
DTEND;TZID=UTC:20241004T210000
DTSTAMP:20260421T204036
CREATED:20240930T134108Z
LAST-MODIFIED:20240930T134108Z
UID:3633-1728072000-1728075600@cordobacapitalcofrade.com
SUMMARY:Función Solemne de San Francisco de Asís
DESCRIPTION:Función Solemne de San Francisco de Asís\, a las 20:00 horas en la Iglesia Conventual del Santo Ángel (Capuchinos).
URL:https://cordobacapitalcofrade.com/agenda/funcion-solemne-de-san-francisco-de-asis/
LOCATION:Iglesia Conventual del Santo Ángel (Capuchinos)\, Pl. de Capuchinos\, 5\, Córdoba\, España
CATEGORIES:Cultos
ATTACH;FMTTYPE=image/jpeg:https://cordobacapitalcofrade.com/wp-content/uploads/2024/09/Exposicion-Pastoras-0076.jpg
END:VEVENT
END:VCALENDAR