BEGIN:VCALENDAR
VERSION:2.0
PRODID:-//Agenda Cofrade 365 Días - ECPv6.3.7//NONSGML v1.0//EN
CALSCALE:GREGORIAN
METHOD:PUBLISH
X-WR-CALNAME:Agenda Cofrade 365 Días
X-ORIGINAL-URL:https://cordobacapitalcofrade.com
X-WR-CALDESC:Eventos para Agenda Cofrade 365 Días
REFRESH-INTERVAL;VALUE=DURATION:PT1H
X-Robots-Tag:noindex
X-PUBLISHED-TTL:PT1H
BEGIN:VTIMEZONE
TZID:UTC
BEGIN:STANDARD
TZOFFSETFROM:+0000
TZOFFSETTO:+0000
TZNAME:UTC
DTSTART:20230101T000000
END:STANDARD
END:VTIMEZONE
BEGIN:VEVENT
DTSTART;TZID=UTC:20231227T200000
DTEND;TZID=UTC:20231227T210000
DTSTAMP:20260424T164000
CREATED:20231124T091327Z
LAST-MODIFIED:20231124T091327Z
UID:662-1703707200-1703710800@cordobacapitalcofrade.com
SUMMARY:Misa en Honor a San Juan Evangelista
DESCRIPTION:Se celebrará una misa en Honor a San Juan Evangelista\, imagen de culto de la Juventud de la Hdad.
URL:https://cordobacapitalcofrade.com/agenda/misa-en-honor-a-san-juan-evangelista/
LOCATION:Iglesia Conventual del Santo Ángel (Capuchinos)\, Pl. de Capuchinos\, 5\, Córdoba\, España
CATEGORIES:Cultos
ATTACH;FMTTYPE=image/jpeg:https://cordobacapitalcofrade.com/wp-content/uploads/2023/11/398644289_724484409715531_5446629785400326898_n.jpg
END:VEVENT
END:VCALENDAR