BEGIN:VCALENDAR
VERSION:2.0
PRODID:-//Agenda Cofrade 365 Días - ECPv6.3.7//NONSGML v1.0//EN
CALSCALE:GREGORIAN
METHOD:PUBLISH
X-ORIGINAL-URL:https://cordobacapitalcofrade.com
X-WR-CALDESC:Eventos para Agenda Cofrade 365 Días
REFRESH-INTERVAL;VALUE=DURATION:PT1H
X-Robots-Tag:noindex
X-PUBLISHED-TTL:PT1H
BEGIN:VTIMEZONE
TZID:UTC
BEGIN:STANDARD
TZOFFSETFROM:+0000
TZOFFSETTO:+0000
TZNAME:UTC
DTSTART:20250101T000000
END:STANDARD
END:VTIMEZONE
BEGIN:VEVENT
DTSTART;TZID=UTC:20250629T110000
DTEND;TZID=UTC:20250629T130000
DTSTAMP:20260422T234107
CREATED:20250623T183920Z
LAST-MODIFIED:20250623T184429Z
UID:6373-1751194800-1751202000@cordobacapitalcofrade.com
SUMMARY:Procesión del Corpus Christi de la Parroquia de la Consolación
DESCRIPTION:Procesión del Corpus Christi 2025 a las 11:00 horas desde la Parroquia de Nuestra Señora de la Consolación recorriendo las calles de la feligresía. Acompañará musicalmente la Banda de Música «Cristo del Amor» de Córdoba.
URL:https://cordobacapitalcofrade.com/agenda/procesion-del-corpus-christi-de-la-parroquia-de-la-consolacion/
LOCATION:Parroquia de Nuestra Señora de la Consolación\, C. Historiador Dozy\, 20\, Córdoba\, España
CATEGORIES:Procesión
ATTACH;FMTTYPE=image/jpeg:https://cordobacapitalcofrade.com/wp-content/uploads/2025/06/Corpus-Consolacion-0029-min-scaled.jpg
END:VEVENT
END:VCALENDAR