BEGIN:VCALENDAR
VERSION:2.0
PRODID:-//Agenda Cofrade 365 Días - ECPv6.3.7//NONSGML v1.0//EN
CALSCALE:GREGORIAN
METHOD:PUBLISH
X-WR-CALNAME:Agenda Cofrade 365 Días
X-ORIGINAL-URL:https://cordobacapitalcofrade.com
X-WR-CALDESC:Eventos para Agenda Cofrade 365 Días
REFRESH-INTERVAL;VALUE=DURATION:PT1H
X-Robots-Tag:noindex
X-PUBLISHED-TTL:PT1H
BEGIN:VTIMEZONE
TZID:UTC
BEGIN:STANDARD
TZOFFSETFROM:+0000
TZOFFSETTO:+0000
TZNAME:UTC
DTSTART:20250101T000000
END:STANDARD
END:VTIMEZONE
BEGIN:VEVENT
DTSTART;TZID=UTC:20250307T210000
DTEND;TZID=UTC:20250307T230000
DTSTAMP:20260423T193727
CREATED:20250303T172156Z
LAST-MODIFIED:20250303T172156Z
UID:5381-1741381200-1741388400@cordobacapitalcofrade.com
SUMMARY:Primer programa de la temporada de "Paso a Paso" de Canal Sur Radio
DESCRIPTION:Primer programa de la temporada de «Paso a Paso» de Canal Sur Radio\, a las 21:00 horas en la Basílica de San Pedro.
URL:https://cordobacapitalcofrade.com/agenda/primer-programa-de-la-temporada-de-paso-a-paso-de-canal-sur-radio/
LOCATION:Basílica de San Pedro\, Pl. de San Pedro\, 1\, 14002 Córdoba\, Córdoba\, España
ATTACH;FMTTYPE=image/png:https://cordobacapitalcofrade.com/wp-content/uploads/2025/03/FrKKojg__400x400.png
END:VEVENT
END:VCALENDAR