BEGIN:VCALENDAR
VERSION:2.0
PRODID:-//Agenda Cofrade 365 Días - ECPv6.3.7//NONSGML v1.0//EN
CALSCALE:GREGORIAN
METHOD:PUBLISH
X-ORIGINAL-URL:https://cordobacapitalcofrade.com
X-WR-CALDESC:Eventos para Agenda Cofrade 365 Días
REFRESH-INTERVAL;VALUE=DURATION:PT1H
X-Robots-Tag:noindex
X-PUBLISHED-TTL:PT1H
BEGIN:VTIMEZONE
TZID:UTC
BEGIN:STANDARD
TZOFFSETFROM:+0000
TZOFFSETTO:+0000
TZNAME:UTC
DTSTART:20240101T000000
END:STANDARD
END:VTIMEZONE
BEGIN:VEVENT
DTSTART;TZID=UTC:20240121T110000
DTEND;TZID=UTC:20240121T123000
DTSTAMP:20260423T123635
CREATED:20231230T125017Z
LAST-MODIFIED:20231230T125959Z
UID:1026-1705834800-1705840200@cordobacapitalcofrade.com
SUMMARY:Igualá de costaleros de Nuestro Padre Jesús de la Bondad
DESCRIPTION:Igualá de costaleros de Nuestro Padre Jesús de la Bondad a las 11:00 horas en el Santuario de Nuestra Señora de la Fuensanta.
URL:https://cordobacapitalcofrade.com/agenda/iguala-de-costaleros-de-nuestro-padre-jesus-de-la-bondad/
LOCATION:Santuario de Nuestra Señora de la Fuensanta\, Pl. Santuario de la Fuensanta\, s/n\, Sureste\, 14010 Córdoba\, Córdoba\, España
CATEGORIES:Igualás de costaleros
ATTACH;FMTTYPE=image/jpeg:https://cordobacapitalcofrade.com/wp-content/uploads/2023/12/407476665_686867946919318_4092692623189868804_n.jpg
END:VEVENT
END:VCALENDAR