BEGIN:VCALENDAR
VERSION:2.0
PRODID:-//Agenda Cofrade 365 Días - ECPv6.3.7//NONSGML v1.0//EN
CALSCALE:GREGORIAN
METHOD:PUBLISH
X-ORIGINAL-URL:https://cordobacapitalcofrade.com
X-WR-CALDESC:Eventos para Agenda Cofrade 365 Días
REFRESH-INTERVAL;VALUE=DURATION:PT1H
X-Robots-Tag:noindex
X-PUBLISHED-TTL:PT1H
BEGIN:VTIMEZONE
TZID:UTC
BEGIN:STANDARD
TZOFFSETFROM:+0000
TZOFFSETTO:+0000
TZNAME:UTC
DTSTART:20240101T000000
END:STANDARD
END:VTIMEZONE
BEGIN:VEVENT
DTSTART;TZID=UTC:20241004T190000
DTEND;TZID=UTC:20241005T200000
DTSTAMP:20260419T140108
CREATED:20240925T115811Z
LAST-MODIFIED:20240925T115811Z
UID:3615-1728068400-1728158400@cordobacapitalcofrade.com
SUMMARY:Solemne Triduo en honor de Nuestra Señora Reina de los Apóstoles
DESCRIPTION:Solemne Triduo en honor de Nuestra Señora Reina de los Apóstoles\, a las 19:30 horas en el Santuario de la Fuensanta. Previamente\,  a las 19:00 horas\, Rezo del Santo Rosario.
URL:https://cordobacapitalcofrade.com/agenda/solemne-triduo-en-honor-de-nuestra-senora-reina-de-los-apostoles/
LOCATION:Santuario de Nuestra Señora de la Fuensanta\, Pl. Santuario de la Fuensanta\, s/n\, Sureste\, 14010 Córdoba\, Córdoba\, España
CATEGORIES:Cultos
ATTACH;FMTTYPE=image/jpeg:https://cordobacapitalcofrade.com/wp-content/uploads/2024/09/387110533_656953853244061_646969589700656121_n.jpg
END:VEVENT
BEGIN:VEVENT
DTSTART;TZID=UTC:20241006T090000
DTEND;TZID=UTC:20241006T140000
DTSTAMP:20260419T140108
CREATED:20240925T120200Z
LAST-MODIFIED:20240925T120200Z
UID:3620-1728205200-1728223200@cordobacapitalcofrade.com
SUMMARY:Besamanos de Nuestra Señora Reina de los Apóstoles
DESCRIPTION:Besamanos de Nuestra Señora Reina de los Apóstoles en horario de 09:00 a 14:00 horas en el Santuario de la Fuensanta.
URL:https://cordobacapitalcofrade.com/agenda/besamanos-de-nuestra-senora-reina-de-los-apostoles/
LOCATION:Santuario de Nuestra Señora de la Fuensanta\, Pl. Santuario de la Fuensanta\, s/n\, Sureste\, 14010 Córdoba\, Córdoba\, España
CATEGORIES:Besapiés/Besamanos,Cultos
ATTACH;FMTTYPE=image/jpeg:https://cordobacapitalcofrade.com/wp-content/uploads/2024/09/387871582_658081363131310_1372657905885765115_n.jpg
END:VEVENT
BEGIN:VEVENT
DTSTART;TZID=UTC:20241006T123000
DTEND;TZID=UTC:20241006T133000
DTSTAMP:20260419T140108
CREATED:20240925T115952Z
LAST-MODIFIED:20240925T115952Z
UID:3618-1728217800-1728221400@cordobacapitalcofrade.com
SUMMARY:Solemne Triduo y Función Principal en honor de Nuestra Señora Reina de los Apóstoles
DESCRIPTION:Solemne Triduo y Función Principal en honor de Nuestra Señora Reina de los Apóstoles\, a las 12:30 horas en el Santuario de la Fuensanta.
URL:https://cordobacapitalcofrade.com/agenda/solemne-triduo-y-funcion-principal-en-honor-de-nuestra-senora-reina-de-los-apostoles/
LOCATION:Santuario de Nuestra Señora de la Fuensanta\, Pl. Santuario de la Fuensanta\, s/n\, Sureste\, 14010 Córdoba\, Córdoba\, España
CATEGORIES:Cultos
ATTACH;FMTTYPE=image/jpeg:https://cordobacapitalcofrade.com/wp-content/uploads/2024/09/387110533_656953853244061_646969589700656121_n.jpg
END:VEVENT
BEGIN:VEVENT
DTSTART;TZID=UTC:20241019T201500
DTEND;TZID=UTC:20241019T220000
DTSTAMP:20260419T140108
CREATED:20240925T120350Z
LAST-MODIFIED:20240925T120350Z
UID:3623-1729368900-1729375200@cordobacapitalcofrade.com
SUMMARY:Rosario Vespertino de Nuestra Señora Reina de los Apóstoles
DESCRIPTION:Rosario Vespertino de Nuestra Señora Reina de los Apóstoles\, a las 20:15 horas desde el Santuario de la Fuensanta recorriendo las calles de la feligresía.
URL:https://cordobacapitalcofrade.com/agenda/rosario-vespertino-de-nuestra-senora-reina-de-los-apostoles/
LOCATION:Santuario de Nuestra Señora de la Fuensanta\, Pl. Santuario de la Fuensanta\, s/n\, Sureste\, 14010 Córdoba\, Córdoba\, España
CATEGORIES:Rosario
ATTACH;FMTTYPE=image/jpeg:https://cordobacapitalcofrade.com/wp-content/uploads/2024/09/395365544_669187605354019_7312441926686226593_n.jpg
END:VEVENT
END:VCALENDAR