BEGIN:VCALENDAR
VERSION:2.0
PRODID:-//Agenda Cofrade 365 Días - ECPv6.3.7//NONSGML v1.0//EN
CALSCALE:GREGORIAN
METHOD:PUBLISH
X-ORIGINAL-URL:https://cordobacapitalcofrade.com
X-WR-CALDESC:Eventos para Agenda Cofrade 365 Días
REFRESH-INTERVAL;VALUE=DURATION:PT1H
X-Robots-Tag:noindex
X-PUBLISHED-TTL:PT1H
BEGIN:VTIMEZONE
TZID:UTC
BEGIN:STANDARD
TZOFFSETFROM:+0000
TZOFFSETTO:+0000
TZNAME:UTC
DTSTART:20240101T000000
END:STANDARD
END:VTIMEZONE
BEGIN:VEVENT
DTSTART;TZID=UTC:20240214T190000
DTEND;TZID=UTC:20240218T200000
DTSTAMP:20260421T115259
CREATED:20240214T155051Z
LAST-MODIFIED:20240214T155603Z
UID:2284-1707937200-1708286400@cordobacapitalcofrade.com
SUMMARY:Solemne Quinario en honor de Nuestro Padre Jesús de la Bondad
DESCRIPTION:Solemne Quinario en honor de Nuestro Padre Jesús de la Bondad a las 19:30 horas en el Santuario de Nuestra Señora de la Fuensanta. Previamente a las 19:00 horas Rezo del Santo Rosario y Ejercicio del Quinario.
URL:https://cordobacapitalcofrade.com/agenda/solemne-quinario-en-honor-de-nuestro-padre-jesus-de-la-bondad/
LOCATION:Santuario de Nuestra Señora de la Fuensanta\, Pl. Santuario de la Fuensanta\, s/n\, Sureste\, 14010 Córdoba\, Córdoba\, España
CATEGORIES:Cultos
ATTACH;FMTTYPE=image/jpeg:https://cordobacapitalcofrade.com/wp-content/uploads/2024/02/bondad-ssanta22-4.jpg
END:VEVENT
END:VCALENDAR