BEGIN:VCALENDAR
VERSION:2.0
PRODID:-//Agenda Cofrade 365 Días - ECPv6.3.7//NONSGML v1.0//EN
CALSCALE:GREGORIAN
METHOD:PUBLISH
X-WR-CALNAME:Agenda Cofrade 365 Días
X-ORIGINAL-URL:https://cordobacapitalcofrade.com
X-WR-CALDESC:Eventos para Agenda Cofrade 365 Días
REFRESH-INTERVAL;VALUE=DURATION:PT1H
X-Robots-Tag:noindex
X-PUBLISHED-TTL:PT1H
BEGIN:VTIMEZONE
TZID:UTC
BEGIN:STANDARD
TZOFFSETFROM:+0000
TZOFFSETTO:+0000
TZNAME:UTC
DTSTART:20240101T000000
END:STANDARD
END:VTIMEZONE
BEGIN:VEVENT
DTSTART;TZID=UTC:20240303T160000
DTEND;TZID=UTC:20240303T190000
DTSTAMP:20260421T115234
CREATED:20231230T125945Z
LAST-MODIFIED:20231230T125945Z
UID:1035-1709481600-1709492400@cordobacapitalcofrade.com
SUMMARY:2º Ensayo de costaleros de Nuestro Padre Jesús de la Bondad
DESCRIPTION:2º Ensayo de costaleros de Nuestro Padre Jesús de la Bondad a las 16:00 horas en el local de ensayos situado en el Pasaje Platero Alcántara.
URL:https://cordobacapitalcofrade.com/agenda/2o-ensayo-de-costaleros-de-nuestro-padre-jesus-de-la-bondad/
LOCATION:Local de ensayo Bondad\, Sureste\, 14010 Córdoba\, Córdoba\, España
CATEGORIES:Ensayos Costaleros
ATTACH;FMTTYPE=image/jpeg:https://cordobacapitalcofrade.com/wp-content/uploads/2023/12/Senor-Bondad-salida-procesional_1777333813_179816015_1200x675.jpg
END:VEVENT
END:VCALENDAR