BEGIN:VCALENDAR
VERSION:2.0
PRODID:-//Agenda Cofrade 365 Días - ECPv6.3.7//NONSGML v1.0//EN
CALSCALE:GREGORIAN
METHOD:PUBLISH
X-ORIGINAL-URL:https://cordobacapitalcofrade.com
X-WR-CALDESC:Eventos para Agenda Cofrade 365 Días
REFRESH-INTERVAL;VALUE=DURATION:PT1H
X-Robots-Tag:noindex
X-PUBLISHED-TTL:PT1H
BEGIN:VTIMEZONE
TZID:UTC
BEGIN:STANDARD
TZOFFSETFROM:+0000
TZOFFSETTO:+0000
TZNAME:UTC
DTSTART:20240101T000000
END:STANDARD
END:VTIMEZONE
BEGIN:VEVENT
DTSTART;TZID=UTC:20240310T110000
DTEND;TZID=UTC:20240310T140000
DTSTAMP:20260421T113338
CREATED:20231230T130156Z
LAST-MODIFIED:20231230T130156Z
UID:1037-1710068400-1710079200@cordobacapitalcofrade.com
SUMMARY:3er y último Ensayo de costaleros de Nuestro Padre Jesús de la Bondad
DESCRIPTION:3er y último Ensayo de costaleros de Nuestro Padre Jesús de la Bondad a las 11:00 horas desde la Plaza del Santuario de la Fuensanta.
URL:https://cordobacapitalcofrade.com/agenda/3er-y-ultimo-ensayo-de-costaleros-de-nuestro-padre-jesus-de-la-bondad/
LOCATION:Santuario de Nuestra Señora de la Fuensanta\, Pl. Santuario de la Fuensanta\, s/n\, Sureste\, 14010 Córdoba\, Córdoba\, España
CATEGORIES:Ensayos Costaleros
ATTACH;FMTTYPE=image/jpeg:https://cordobacapitalcofrade.com/wp-content/uploads/2023/12/Senor-Bondad-salida-procesional_1777333813_179816015_1200x675.jpg
END:VEVENT
END:VCALENDAR