BEGIN:VCALENDAR
VERSION:2.0
PRODID:-//Agenda Cofrade 365 Días - ECPv6.3.7//NONSGML v1.0//EN
CALSCALE:GREGORIAN
METHOD:PUBLISH
X-WR-CALNAME:Agenda Cofrade 365 Días
X-ORIGINAL-URL:https://cordobacapitalcofrade.com
X-WR-CALDESC:Eventos para Agenda Cofrade 365 Días
REFRESH-INTERVAL;VALUE=DURATION:PT1H
X-Robots-Tag:noindex
X-PUBLISHED-TTL:PT1H
BEGIN:VTIMEZONE
TZID:UTC
BEGIN:STANDARD
TZOFFSETFROM:+0000
TZOFFSETTO:+0000
TZNAME:UTC
DTSTART:20240101T000000
END:STANDARD
END:VTIMEZONE
BEGIN:VEVENT
DTSTART;TZID=UTC:20240914T200000
DTEND;TZID=UTC:20240914T210000
DTSTAMP:20260424T054145
CREATED:20240909T190434Z
LAST-MODIFIED:20240909T190434Z
UID:3442-1726344000-1726347600@cordobacapitalcofrade.com
SUMMARY:Solemne Eucaristía en honor del Santísimo Cristo de la Vera Cruz
DESCRIPTION:Solemne Eucaristía en honor del Santísimo Cristo de la Vera Cruz\, a las 20:00 horas en la Parroquia de Nuestra Señora del Carmen. Durante la Eucaristía se volverán a bendecir unas antiguas potencias y corona de espinas en plata del Siglo XVIII recuperadas recientemente.
URL:https://cordobacapitalcofrade.com/agenda/solemne-eucaristia-en-honor-del-santisimo-cristo-de-la-vera-cruz/
LOCATION:Parroquia de Nuestra Señora del Carmen\, C. Rd. de Andújar\,23\, Córdoba\, España
CATEGORIES:Cultos
ATTACH;FMTTYPE=image/jpeg:https://cordobacapitalcofrade.com/wp-content/uploads/2024/09/salud-puerta-nueva-ssanta18-2.jpg
END:VEVENT
END:VCALENDAR