BEGIN:VCALENDAR
VERSION:2.0
PRODID:-//Agenda Cofrade 365 Días - ECPv6.3.7//NONSGML v1.0//EN
CALSCALE:GREGORIAN
METHOD:PUBLISH
X-WR-CALNAME:Agenda Cofrade 365 Días
X-ORIGINAL-URL:https://cordobacapitalcofrade.com
X-WR-CALDESC:Eventos para Agenda Cofrade 365 Días
REFRESH-INTERVAL;VALUE=DURATION:PT1H
X-Robots-Tag:noindex
X-PUBLISHED-TTL:PT1H
BEGIN:VTIMEZONE
TZID:UTC
BEGIN:STANDARD
TZOFFSETFROM:+0000
TZOFFSETTO:+0000
TZNAME:UTC
DTSTART:20250101T000000
END:STANDARD
END:VTIMEZONE
BEGIN:VEVENT
DTSTART;TZID=UTC:20250110T203000
DTEND;TZID=UTC:20250110T213000
DTSTAMP:20260423T052400
CREATED:20241120T140719Z
LAST-MODIFIED:20241120T140719Z
UID:4151-1736541000-1736544600@cordobacapitalcofrade.com
SUMMARY:Igualá de costaleros de María Santísima de Regla
DESCRIPTION:Igualá de costaleros de María Santísima de Regla\, a las 20:30 horas en la Parroquia de Nuestra Señora del Carmen.
URL:https://cordobacapitalcofrade.com/agenda/iguala-de-costaleros-de-maria-santisima-de-regla/
LOCATION:Parroquia de Nuestra Señora del Carmen\, C. Rd. de Andújar\,23\, Córdoba\, España
CATEGORIES:Igualás de costaleros
ATTACH;FMTTYPE=image/jpeg:https://cordobacapitalcofrade.com/wp-content/uploads/2024/11/467010166_18303526405201674_8033523659196595691_n.jpg
END:VEVENT
BEGIN:VEVENT
DTSTART;TZID=UTC:20250131T210000
DTEND;TZID=UTC:20250131T220000
DTSTAMP:20260423T052400
CREATED:20241120T135530Z
LAST-MODIFIED:20241120T135530Z
UID:4141-1738357200-1738360800@cordobacapitalcofrade.com
SUMMARY:Igualá de costaleros de Nuestro Padre Jesús de la Salud
DESCRIPTION:Igualá de costaleros de Nuestro Padre Jesús de la Salud\, a las 21:00 horas en la Parroquia de Nuestra Señora del Carmen.
URL:https://cordobacapitalcofrade.com/agenda/iguala-de-costaleros-de-nuestro-padre-jesus-de-la-salud-2/
LOCATION:Parroquia de Nuestra Señora del Carmen\, C. Rd. de Andújar\,23\, Córdoba\, España
CATEGORIES:Igualás de costaleros
ATTACH;FMTTYPE=image/jpeg:https://cordobacapitalcofrade.com/wp-content/uploads/2024/11/466847999_18303649621201674_8760313919395131150_n.jpg
END:VEVENT
END:VCALENDAR