BEGIN:VCALENDAR
VERSION:2.0
PRODID:-//Agenda Cofrade 365 Días - ECPv6.3.7//NONSGML v1.0//EN
CALSCALE:GREGORIAN
METHOD:PUBLISH
X-ORIGINAL-URL:https://cordobacapitalcofrade.com
X-WR-CALDESC:Eventos para Agenda Cofrade 365 Días
REFRESH-INTERVAL;VALUE=DURATION:PT1H
X-Robots-Tag:noindex
X-PUBLISHED-TTL:PT1H
BEGIN:VTIMEZONE
TZID:UTC
BEGIN:STANDARD
TZOFFSETFROM:+0000
TZOFFSETTO:+0000
TZNAME:UTC
DTSTART:20240101T000000
END:STANDARD
END:VTIMEZONE
BEGIN:VEVENT
DTSTART;TZID=UTC:20240321T204000
DTEND;TZID=UTC:20240322T013500
DTSTAMP:20260425T235353
CREATED:20240307T182043Z
LAST-MODIFIED:20240307T182043Z
UID:2552-1711053600-1711071300@cordobacapitalcofrade.com
SUMMARY:Salida Procesional de Nuestro Padre Jesús de la Salud
DESCRIPTION:Salida Procesional de Nuestro Padre Jesús de la Salud desde la Parroquia de Nuestra Señora del Carmen con este recorrido: Salida (20:40 horas\, Alfonso XII (20:50 horas)\, Plaza de San Bartolomé (21:05 horas)\, Plaza Vizconde de Miranda (21:20 horas)\, Plaza de San Pedro (21:35 horas)\, Interior Basílica de San Pedro (21:45 horas)\, Don Rodrigo (22:00 horas)\, Lineros (22:15 horas)\, Lucano (22:25 horas)\, San Fernando (22:40 horas)\, San Francisco (22:50 horas)\, Huerto San Pedro El Real (22:55 horas)\, Maese Luis (23:05 horas)\, Fernando Colón (23:10 horas)\,Rodríguez Marín (23:20 horas)\, Capitulares (23:30 horas)\, San Pablo (23:40 horas)\, Plaza de San Andrés (23:55 horas)\, Realejo (00:05 horas)\, Muñices (00:25 horas)\, Plaza de la Magdalena (00:40 horas)\, Ronda de Andújar (00:50 horas)\, Entrada (01:35 horas). Los sones musicales correrán a cargo de la Agrupación Musical «Nuestro Padre Jesús de la Redención» de Córdoba.
URL:https://cordobacapitalcofrade.com/agenda/salida-procesional-de-nuestro-padre-jesus-de-la-salud/
LOCATION:Parroquia de Nuestra Señora del Carmen\, C. Rd. de Andújar\,23\, Córdoba\, España
CATEGORIES:Procesión
ATTACH;FMTTYPE=image/webp:https://cordobacapitalcofrade.com/wp-content/uploads/2024/03/previa-salud-puerta-U42800676852iGI-1200x630@abc.webp
END:VEVENT
END:VCALENDAR