BEGIN:VCALENDAR
VERSION:2.0
PRODID:-//Agenda Cofrade 365 Días - ECPv6.3.7//NONSGML v1.0//EN
CALSCALE:GREGORIAN
METHOD:PUBLISH
X-ORIGINAL-URL:https://cordobacapitalcofrade.com
X-WR-CALDESC:Eventos para Agenda Cofrade 365 Días
REFRESH-INTERVAL;VALUE=DURATION:PT1H
X-Robots-Tag:noindex
X-PUBLISHED-TTL:PT1H
BEGIN:VTIMEZONE
TZID:UTC
BEGIN:STANDARD
TZOFFSETFROM:+0000
TZOFFSETTO:+0000
TZNAME:UTC
DTSTART:20240101T000000
END:STANDARD
END:VTIMEZONE
BEGIN:VEVENT
DTSTART;TZID=UTC:20241106T193000
DTEND;TZID=UTC:20241108T201500
DTSTAMP:20260423T214521
CREATED:20241029T185558Z
LAST-MODIFIED:20241029T185558Z
UID:3899-1730921400-1731096900@cordobacapitalcofrade.com
SUMMARY:Triduo de María Santísima de Regla
DESCRIPTION:Triduo de María Santísima de Regla\, a las 19:30 horas en la Parroquia de Nuestra Señora del Carmen.
URL:https://cordobacapitalcofrade.com/agenda/triduo-de-maria-santisima-de-regla/
LOCATION:Parroquia de Nuestra Señora del Carmen\, C. Rd. de Andújar\,23\, Córdoba\, España
CATEGORIES:Cultos
ATTACH;FMTTYPE=image/jpeg:https://cordobacapitalcofrade.com/wp-content/uploads/2024/10/315145178_2581627308646817_3896270622785866323_n.jpg
END:VEVENT
END:VCALENDAR