BEGIN:VCALENDAR
VERSION:2.0
PRODID:-//Agenda Cofrade 365 Días - ECPv6.3.7//NONSGML v1.0//EN
CALSCALE:GREGORIAN
METHOD:PUBLISH
X-WR-CALNAME:Agenda Cofrade 365 Días
X-ORIGINAL-URL:https://cordobacapitalcofrade.com
X-WR-CALDESC:Eventos para Agenda Cofrade 365 Días
REFRESH-INTERVAL;VALUE=DURATION:PT1H
X-Robots-Tag:noindex
X-PUBLISHED-TTL:PT1H
BEGIN:VTIMEZONE
TZID:UTC
BEGIN:STANDARD
TZOFFSETFROM:+0000
TZOFFSETTO:+0000
TZNAME:UTC
DTSTART:20240101T000000
END:STANDARD
END:VTIMEZONE
BEGIN:VEVENT
DTSTART;TZID=UTC:20241110T103000
DTEND;TZID=UTC:20241110T203000
DTSTAMP:20260424T041313
CREATED:20241029T190352Z
LAST-MODIFIED:20241029T190352Z
UID:3907-1731234600-1731270600@cordobacapitalcofrade.com
SUMMARY:Besamanos de María Santísima de Regla
DESCRIPTION:Besamanos de María Santísima de Regla en horario de 10:30 a 14:00 horas y de 17:00 a 20:30 horas en la Parroquia de Nuestra Señora del Carmen.
URL:https://cordobacapitalcofrade.com/agenda/besamanos-de-maria-santisima-de-regla-2/
LOCATION:Parroquia de Nuestra Señora del Carmen\, C. Rd. de Andújar\,23\, Córdoba\, España
CATEGORIES:Cultos
ATTACH;FMTTYPE=image/jpeg:https://cordobacapitalcofrade.com/wp-content/uploads/2024/10/397610499_18256374583201674_2827185069882232649_n.jpg
END:VEVENT
BEGIN:VEVENT
DTSTART;TZID=UTC:20241110T120000
DTEND;TZID=UTC:20241110T130000
DTSTAMP:20260424T041313
CREATED:20241029T190212Z
LAST-MODIFIED:20241029T190212Z
UID:3905-1731240000-1731243600@cordobacapitalcofrade.com
SUMMARY:Función Principal de María Santísima de Regla
DESCRIPTION:Función Principal de María Santísima de Regla\, a las 12:00 horas en la Parroquia de Nuestra Señora del Carmen.
URL:https://cordobacapitalcofrade.com/agenda/funcion-principal-de-maria-santisima-de-regla/
LOCATION:Parroquia de Nuestra Señora del Carmen\, C. Rd. de Andújar\,23\, Córdoba\, España
CATEGORIES:Cultos
ATTACH;FMTTYPE=image/jpeg:https://cordobacapitalcofrade.com/wp-content/uploads/2024/10/315145178_2581627308646817_3896270622785866323_n.jpg
END:VEVENT
END:VCALENDAR