BEGIN:VCALENDAR
VERSION:2.0
PRODID:-//Agenda Cofrade 365 Días - ECPv6.3.7//NONSGML v1.0//EN
CALSCALE:GREGORIAN
METHOD:PUBLISH
X-WR-CALNAME:Agenda Cofrade 365 Días
X-ORIGINAL-URL:https://cordobacapitalcofrade.com
X-WR-CALDESC:Eventos para Agenda Cofrade 365 Días
REFRESH-INTERVAL;VALUE=DURATION:PT1H
X-Robots-Tag:noindex
X-PUBLISHED-TTL:PT1H
BEGIN:VTIMEZONE
TZID:UTC
BEGIN:STANDARD
TZOFFSETFROM:+0000
TZOFFSETTO:+0000
TZNAME:UTC
DTSTART:20250101T000000
END:STANDARD
END:VTIMEZONE
BEGIN:VEVENT
DTSTART;TZID=UTC:20250308T160000
DTEND;TZID=UTC:20250308T190000
DTSTAMP:20260422T233438
CREATED:20241120T141214Z
LAST-MODIFIED:20241120T141214Z
UID:4159-1741449600-1741460400@cordobacapitalcofrade.com
SUMMARY:3er Ensayo de costaleros de María Santísima de Regla
DESCRIPTION:3er Ensayo de costaleros de María Santísima de Regla\, a las 16:00 horas desde la Parroquia de Nuestra Señora del Carmen.
URL:https://cordobacapitalcofrade.com/agenda/3er-ensayo-de-costaleros-de-maria-santisima-de-regla/
LOCATION:Parroquia de Nuestra Señora del Carmen\, C. Rd. de Andújar\,23\, Córdoba\, España
CATEGORIES:Ensayos Costaleros
ATTACH;FMTTYPE=image/jpeg:https://cordobacapitalcofrade.com/wp-content/uploads/2024/11/4a4366c3-77a5-4544-b8a6-8742e1fa99c4_16-9-aspect-ratio_default_0.jpg
END:VEVENT
END:VCALENDAR