BEGIN:VCALENDAR
VERSION:2.0
PRODID:-//Agenda Cofrade 365 Días - ECPv6.3.7//NONSGML v1.0//EN
CALSCALE:GREGORIAN
METHOD:PUBLISH
X-WR-CALNAME:Agenda Cofrade 365 Días
X-ORIGINAL-URL:https://cordobacapitalcofrade.com
X-WR-CALDESC:Eventos para Agenda Cofrade 365 Días
REFRESH-INTERVAL;VALUE=DURATION:PT1H
X-Robots-Tag:noindex
X-PUBLISHED-TTL:PT1H
BEGIN:VTIMEZONE
TZID:UTC
BEGIN:STANDARD
TZOFFSETFROM:+0000
TZOFFSETTO:+0000
TZNAME:UTC
DTSTART:20240101T000000
END:STANDARD
END:VTIMEZONE
BEGIN:VEVENT
DTSTART;TZID=UTC:20241108T200000
DTEND;TZID=UTC:20241109T210000
DTSTAMP:20260425T184319
CREATED:20241108T125922Z
LAST-MODIFIED:20241108T125922Z
UID:3950-1731096000-1731186000@cordobacapitalcofrade.com
SUMMARY:Solemne Triduo en honor de Nuestra Señora de la Salud y Traspaso
DESCRIPTION:Solemne Triduo en honor de Nuestra Señora de la Salud y Traspaso\, a las 20:00 horas en la Parroquia de la Consolación.
URL:https://cordobacapitalcofrade.com/agenda/solemne-triduo-en-honor-de-nuestra-senora-de-la-salud-y-traspaso/
LOCATION:Parroquia de Nuestra Señora de la Consolación\, C. Historiador Dozy\, 20\, Córdoba\, España
CATEGORIES:Cultos
ATTACH;FMTTYPE=image/jpeg:https://cordobacapitalcofrade.com/wp-content/uploads/2024/11/unnamed.jpg
END:VEVENT
BEGIN:VEVENT
DTSTART;TZID=UTC:20241110T100000
DTEND;TZID=UTC:20241110T210000
DTSTAMP:20260425T184319
CREATED:20241108T130208Z
LAST-MODIFIED:20241108T130208Z
UID:3955-1731232800-1731272400@cordobacapitalcofrade.com
SUMMARY:Besamanos de Nuestra Señora de la Salud y Traspaso
DESCRIPTION:Besamanos de Nuestra Señora de la Salud y Traspaso en horario de 10:00 a 14:00 horas y de 19:00 a 21:00 horas en la Parroquia de la Consolación.
URL:https://cordobacapitalcofrade.com/agenda/besamanos-de-nuestra-senora-de-la-salud-y-traspaso/
LOCATION:Parroquia de Nuestra Señora de la Consolación\, C. Historiador Dozy\, 20\, Córdoba\, España
CATEGORIES:Cultos
ATTACH;FMTTYPE=image/jpeg:https://cordobacapitalcofrade.com/wp-content/uploads/2024/11/Besamanos-Salud-y-Traspaso-0052.jpg
END:VEVENT
BEGIN:VEVENT
DTSTART;TZID=UTC:20241110T120000
DTEND;TZID=UTC:20241110T130000
DTSTAMP:20260425T184319
CREATED:20241108T130058Z
LAST-MODIFIED:20241108T130058Z
UID:3953-1731240000-1731243600@cordobacapitalcofrade.com
SUMMARY:Función Solemne de Nuestra Señora de la Salud y Traspaso
DESCRIPTION:Función Solemne de Nuestra Señora de la Salud y Traspaso\, a las 12:00 horas en la Parroquia de la Consolación.
URL:https://cordobacapitalcofrade.com/agenda/funcion-solemne-de-nuestra-senora-de-la-salud-y-traspaso/
LOCATION:Parroquia de Nuestra Señora de la Consolación\, C. Historiador Dozy\, 20\, Córdoba\, España
CATEGORIES:Cultos
ATTACH;FMTTYPE=image/jpeg:https://cordobacapitalcofrade.com/wp-content/uploads/2024/11/unnamed.jpg
END:VEVENT
END:VCALENDAR