BEGIN:VCALENDAR
VERSION:2.0
PRODID:-//Agenda Cofrade 365 Días - ECPv6.3.7//NONSGML v1.0//EN
CALSCALE:GREGORIAN
METHOD:PUBLISH
X-WR-CALNAME:Agenda Cofrade 365 Días
X-ORIGINAL-URL:https://cordobacapitalcofrade.com
X-WR-CALDESC:Eventos para Agenda Cofrade 365 Días
REFRESH-INTERVAL;VALUE=DURATION:PT1H
X-Robots-Tag:noindex
X-PUBLISHED-TTL:PT1H
BEGIN:VTIMEZONE
TZID:UTC
BEGIN:STANDARD
TZOFFSETFROM:+0000
TZOFFSETTO:+0000
TZNAME:UTC
DTSTART:20260101T000000
END:STANDARD
END:VTIMEZONE
BEGIN:VEVENT
DTSTART;TZID=UTC:20260221T103000
DTEND;TZID=UTC:20260221T143000
DTSTAMP:20260421T185527
CREATED:20260216T170907Z
LAST-MODIFIED:20260216T170907Z
UID:8827-1771669800-1771684200@cordobacapitalcofrade.com
SUMMARY:Ensayo de costaleros del Santísimo Cristo de las Almas y Nuestra Señora de la Salud y Traspaso
DESCRIPTION:Ensayo de costaleros del Santísimo Cristo de las Almas y Nuestra Señora de la Salud y Traspaso\, a las 10:30 horas desde la Parroquia de Nuestra Señora de la Consolación.
URL:https://cordobacapitalcofrade.com/agenda/ensayo-de-costaleros-del-santisimo-cristo-de-las-almas-y-nuestra-senora-de-la-salud-y-traspaso/
LOCATION:Parroquia de Nuestra Señora de la Consolación\, C. Historiador Dozy\, 20\, Córdoba\, España
CATEGORIES:Ensayos Costaleros
ATTACH;FMTTYPE=image/jpeg:https://cordobacapitalcofrade.com/wp-content/uploads/2026/02/Traslado-al-Sepulcro-2024-0318-1-scaled.jpg
END:VEVENT
BEGIN:VEVENT
DTSTART;TZID=UTC:20260227T210000
DTEND;TZID=UTC:20260227T223000
DTSTAMP:20260421T185527
CREATED:20260223T173303Z
LAST-MODIFIED:20260223T173303Z
UID:8992-1772226000-1772231400@cordobacapitalcofrade.com
SUMMARY:Vía Crucis con la imagen del Santísimo Cristo de la Almas
DESCRIPTION:Vía Crucis con la imagen del Santísimo Cristo de la Almas\, a las 21:00 horas desde la Parroquia de Nuestra Señora de la Consolación recorriendo las calles de la feligresía. Acompañará musicalmente la Capilla Musical «Ad Finem Tecum».
URL:https://cordobacapitalcofrade.com/agenda/via-crucis-con-la-imagen-del-santisimo-cristo-de-la-almas/
LOCATION:Parroquia de Nuestra Señora de la Consolación\, C. Historiador Dozy\, 20\, Córdoba\, España
CATEGORIES:Vía Crucis
ATTACH;FMTTYPE=image/jpeg:https://cordobacapitalcofrade.com/wp-content/uploads/2026/02/PXL_20220311_214048136.jpg
END:VEVENT
END:VCALENDAR