BEGIN:VCALENDAR
VERSION:2.0
PRODID:-//Agenda Cofrade 365 Días - ECPv6.3.7//NONSGML v1.0//EN
CALSCALE:GREGORIAN
METHOD:PUBLISH
X-WR-CALNAME:Agenda Cofrade 365 Días
X-ORIGINAL-URL:https://cordobacapitalcofrade.com
X-WR-CALDESC:Eventos para Agenda Cofrade 365 Días
REFRESH-INTERVAL;VALUE=DURATION:PT1H
X-Robots-Tag:noindex
X-PUBLISHED-TTL:PT1H
BEGIN:VTIMEZONE
TZID:UTC
BEGIN:STANDARD
TZOFFSETFROM:+0000
TZOFFSETTO:+0000
TZNAME:UTC
DTSTART:20250101T000000
END:STANDARD
END:VTIMEZONE
BEGIN:VEVENT
DTSTART;TZID=UTC:20251205T103000
DTEND;TZID=UTC:20251213T200000
DTSTAMP:20260421T010454
CREATED:20251127T155654Z
LAST-MODIFIED:20251127T155654Z
UID:7725-1764930600-1765656000@cordobacapitalcofrade.com
SUMMARY:V Muestra de Dulces Conventuales de la Hermandad del Descendimiento
DESCRIPTION:V Muestra de Dulces Conventuales de la Hermandad del Descendimiento en horario de 10:30 a 20:00 horas en el Convento de las Siervas de María ubicado en la C/ Blanco Belmonte\, 3.
URL:https://cordobacapitalcofrade.com/agenda/v-muestra-de-dulces-conventuales-de-la-hermandad-del-descendimiento/
LOCATION:Convento de las Siervas de María\, C. Blanco Belmonte\, 3\, Centro\, 14003 Córdoba\, Córdoba\, Spain
CATEGORIES:Muestras
ATTACH;FMTTYPE=image/jpeg:https://cordobacapitalcofrade.com/wp-content/uploads/2025/11/588620849_18296834539273736_3113432801552516227_n.jpeg
END:VEVENT
BEGIN:VEVENT
DTSTART;TZID=UTC:20251211T193000
DTEND;TZID=UTC:20251213T203000
DTSTAMP:20260421T010454
CREATED:20251201T153320Z
LAST-MODIFIED:20251201T153320Z
UID:7783-1765481400-1765657800@cordobacapitalcofrade.com
SUMMARY:Solemne Triduo en honor de María Santísima de la Esperanza
DESCRIPTION:Solemne Triduo en honor de María Santísima de la Esperanza\, a las 20:00 horas en la Parroquia de San Andrés Apóstol. Previamente\, a las 19:30 horas\, rezo del Santo Rosario y ejercicio del triduo.
URL:https://cordobacapitalcofrade.com/agenda/solemne-triduo-en-honor-de-maria-santisima-de-la-esperanza-3/
LOCATION:Parroquia de San Andrés Apóstol\, Pl. San Andrés\, 0\, Córdoba\, España
CATEGORIES:Cultos
ATTACH;FMTTYPE=image/jpeg:https://cordobacapitalcofrade.com/wp-content/uploads/2025/12/489408017_1142050874630365_1258022902810714812_n.jpg
END:VEVENT
BEGIN:VEVENT
DTSTART;TZID=UTC:20251212T204500
DTEND;TZID=UTC:20251212T220000
DTSTAMP:20260421T010454
CREATED:20251201T153602Z
LAST-MODIFIED:20251201T153602Z
UID:7786-1765572300-1765576800@cordobacapitalcofrade.com
SUMMARY:Vigilia ante María Santísima de la Esperanza
DESCRIPTION:Vigilia ante María Santísima de la Esperanza con Exposición de su Divina Majestad\, meditación\, bendición y reserva a las 20:45 horas en la Parroquia de San Andrés Apóstol.
URL:https://cordobacapitalcofrade.com/agenda/vigilia-ante-maria-santisima-de-la-esperanza/
LOCATION:Parroquia de San Andrés Apóstol\, Pl. San Andrés\, 0\, Córdoba\, España
CATEGORIES:Cultos
ATTACH;FMTTYPE=image/jpeg:https://cordobacapitalcofrade.com/wp-content/uploads/2025/12/489408017_1142050874630365_1258022902810714812_n.jpg
END:VEVENT
BEGIN:VEVENT
DTSTART;TZID=UTC:20251212T210000
DTEND;TZID=UTC:20251212T220000
DTSTAMP:20260421T010454
CREATED:20251118T183343Z
LAST-MODIFIED:20251118T183343Z
UID:7602-1765573200-1765576800@cordobacapitalcofrade.com
SUMMARY:Otoño en las Iglesias Fernandinas
DESCRIPTION:Otoño en las Iglesias Fernandinas \nEl 12 de diciembre a las 21 horas en la la Parroquia de San Nicolás de la Villa\, << A Haendel ad Nativitatem>> \nOrquesta y coro de la catedral de Córdoba dirigido por Clemente Mata. \nEntrada libre hasta completar aforo.
URL:https://cordobacapitalcofrade.com/agenda/otono-en-las-iglesias-fernandinas-8/
LOCATION:Parroquia San Nicolás de la Villa\, Plaza de San Nicolás\, Córdoba\, Córdoba\, 14003\, España
CATEGORIES:Conciertos
ATTACH;FMTTYPE=image/jpeg:https://cordobacapitalcofrade.com/wp-content/uploads/2025/11/IMG-20251118-WA0047.jpg
END:VEVENT
BEGIN:VEVENT
DTSTART;TZID=UTC:20251213T103000
DTEND;TZID=UTC:20251213T140000
DTSTAMP:20260421T010454
CREATED:20251208T173749Z
LAST-MODIFIED:20251208T173749Z
UID:7857-1765621800-1765634400@cordobacapitalcofrade.com
SUMMARY:Operación Kilo de recogida solidaria de alimentos de la Hermandad de la Merced
DESCRIPTION:Operación Kilo de recogida solidaria de alimentos con este recorrido: Salida desde la Casa de Hermandad (10:30 horas)\, Avenida Virgen de Linares\, Patio Pabellones Militares\, Avenida Virgen de Linares\, Avenida de los Almogávares\, Avenida de las Ollerías\, San Juan de la Cruz\, Esperanza\, Eugenio D´Ors\, Esperanza\, Plaza de la Alegría\, Esperanza\, San Juan de la Cruz\, Avenida de los Almogávares\, Glorieta de la Fuensantilla\, Estrella Sirio\, Julio César\, Estrella Altaír\, Agrupación Córdoba\, Plaza Escritor Peña Aguayo\, Damián de Castro\, Pasaje Ciudad de Archidona\, Damián de Castro\, Hermanos Luján\, Escritor Cristobal de Mesa\, Doctor Manuel Villegas\, La Ladera\, Plaza Escritor Peña Aguayo\, Damián de Castro\, Doctor Manuel Villegas\, Platero Lucas Valdés\, Cinco Caballeros\, Tejar de la Cruz\, Pintor Pedro Romana\, Cinco Caballeros\, Pasaje desde Rafael Pavón a Doctor Manuel Villegas\, Doctor Manuel Villegas\, Pasaje de los Delineantes\, Doctor Manuel Villegas\, Escritor Cristobal de Mesa\, Pasaje Coullat Valera\, Escritor López de Cárdenas\, Caravaca de la Cruz\, Farmacéutico Rafael Contreras Gordo\, Hermanos Luján\, Sagunto\, San Acisclo\, Vázquez Venegas\, Escritor Cristobal Mesa\, Doctor Manuel Villegas\, Platero Lucas Valdés\, Pintor Pedro Romana\, Pintor Pedro Messía\, Doctor Manuel Villegas\, Agrupación Córdoba y Entrada (14:00 horas). Acompañará musicalmente la Banda de Cornetas y Tambores «Coronación de Espinas» de Córdoba.
URL:https://cordobacapitalcofrade.com/agenda/operacion-kilo-de-recogida-solidaria-de-alimentos-de-la-hermandad-de-la-merced/
LOCATION:Casa de Hermandad de la Merc\, Av. Agrupación Córdoba\, 11\, Levante\, 14007 Córdoba\, Córdoba\, España
CATEGORIES:Operación Kilo
ATTACH;FMTTYPE=image/jpeg:https://cordobacapitalcofrade.com/wp-content/uploads/2025/12/589338631_18379687735145556_2231632787172217215_n.jpeg
END:VEVENT
BEGIN:VEVENT
DTSTART;TZID=UTC:20251213T130000
DTEND;TZID=UTC:20251213T210000
DTSTAMP:20260421T010454
CREATED:20251125T175417Z
LAST-MODIFIED:20251125T175417Z
UID:7667-1765630800-1765659600@cordobacapitalcofrade.com
SUMMARY:Zambomba en la Hermandad de la Estrella
DESCRIPTION:Zambomba organizada por la Hermandad\, a partir de las 13:00 horas en la puerta de la Casa de Hermandad situada en la C/ Joaquín Sama Naharro\, 26.
URL:https://cordobacapitalcofrade.com/agenda/zambomba-en-la-hermandad-de-la-estrella-2/
LOCATION:Casa de Hermandad de la Estrella\, C. Joaquín Sama Naharro\, 26\, Noroeste\, 14006 Córdoba\, Córdoba\, España
CATEGORIES:zambomba
ATTACH;FMTTYPE=image/jpeg:https://cordobacapitalcofrade.com/wp-content/uploads/2025/11/586039339_1279705040867008_973131890945256334_n.jpg
END:VEVENT
BEGIN:VEVENT
DTSTART;TZID=UTC:20251213T130000
DTEND;TZID=UTC:20251213T220000
DTSTAMP:20260421T010454
CREATED:20251208T174156Z
LAST-MODIFIED:20251208T174156Z
UID:7860-1765630800-1765663200@cordobacapitalcofrade.com
SUMMARY:Zambomba navideña organizada por la Hermandad de la Paz
DESCRIPTION:Zambomba navideña desde las 13:00 horas en la Casa de Hdad. sita en Plaza Paz y Esperanza. Participarán el Coro Paz y Esperanza y el Coro Yerbabuena.
URL:https://cordobacapitalcofrade.com/agenda/zambomba-navidena-organizada-por-la-hermandad-de-la-paz/
LOCATION:Casa Hermandad de la Paz y Esperanza\, Nuestra Señora de la Paz y Esperanza\, 4\, Córdoba\, Córdoba\, 14001\, España
CATEGORIES:zambomba
ATTACH;FMTTYPE=image/jpeg:https://cordobacapitalcofrade.com/wp-content/uploads/2025/12/594494479_1197544812510736_2193862594971142678_n.jpg
END:VEVENT
BEGIN:VEVENT
DTSTART;TZID=UTC:20251213T133000
DTEND;TZID=UTC:20251213T220000
DTSTAMP:20260421T010454
CREATED:20251202T125541Z
LAST-MODIFIED:20251202T125541Z
UID:7796-1765632600-1765663200@cordobacapitalcofrade.com
SUMMARY:XV Zambomba organizada por la Hermandad del Perdón
DESCRIPTION:XV Zambomba organizada por la Hermandad del Perdón desde las 13:30 horas en la C/ Camino de los Sastres.
URL:https://cordobacapitalcofrade.com/agenda/xv-zambomba-organizada-por-la-hermandad-del-perdon/
LOCATION:plaza esquina C/ Maestro Priego López y C/ Camino de los Sastres\, Calle Maestro Priego López\, 9\, Córddoba\, Córdoba\, 14004\, España
CATEGORIES:zambomba
ATTACH;FMTTYPE=image/jpeg:https://cordobacapitalcofrade.com/wp-content/uploads/2025/12/584666289_1309210601249639_5484228623647837060_n.jpg
END:VEVENT
BEGIN:VEVENT
DTSTART;TZID=UTC:20251213T140000
DTEND;TZID=UTC:20251213T220000
DTSTAMP:20260421T010454
CREATED:20251208T173615Z
LAST-MODIFIED:20251208T173615Z
UID:7853-1765634400-1765663200@cordobacapitalcofrade.com
SUMMARY:Zambomba flamenca organizada por la Hermandad de la Sangre del Higuerón
DESCRIPTION:Zambomba flamenca organizada por la Hermandad desde las 14:00 horas en la Plaza Rafael Villar con las actuaciones de grupos como; Coro Aires de Poniente\, Coro Savia Cordobesa\, Grupo Salmuera o el Coro Patio Cordobés.
URL:https://cordobacapitalcofrade.com/agenda/zambomba-flamenca-organizada-por-la-hermandad-de-la-sangre-del-higueron/
LOCATION:Plaza Rafael Villar\, Avenida Principal\, 14193 Córdoba\, Córdoba\, Spain
CATEGORIES:zambomba
ATTACH;FMTTYPE=image/jpeg:https://cordobacapitalcofrade.com/wp-content/uploads/2025/12/588818389_18041214833707328_2151089343160674628_n.jpg
END:VEVENT
BEGIN:VEVENT
DTSTART;TZID=UTC:20251213T170000
DTEND;TZID=UTC:20251213T210000
DTSTAMP:20260421T010454
CREATED:20251125T174302Z
LAST-MODIFIED:20251208T173328Z
UID:7660-1765645200-1765659600@cordobacapitalcofrade.com
SUMMARY:Procesión de Nuestra Señora de Belén
DESCRIPTION:Procesión de Nuestra Señora de Belén desde la Parroquia de Nuestra Señora de Belén siguiendo este recorrido: Salida (17:00 horas)\, Levante Escritor Carrillo Lasso\, Platero Pedro de Bares\, Cartago\, Avenida 28 de Febrero\, Parroquia de Santa María de Guadalupe (Franciscanos)\, Avenida de Rabanales\, Hermano Juan Fernández\, Islas Canarias\, Gibraltar\, Asociación de Vecinos «Nuestra Señora de Belén»\, Doctor Gómez Aguado\, Escritor Aguayo Godoy\, Plaza de Belén\, Escritor Gregorio Alfaro\, Escritor Juan Alfonso de Baena\, Hermano Juan Fernández\, Levante y Entrada. El acompañamiento musical correrá a cargo de la Banda de Música «Villa de Íllora» (Granada).
URL:https://cordobacapitalcofrade.com/agenda/procesion-de-nuestra-senora-de-belen-2/
LOCATION:Parroquia de Nuestra Señora de Belén\, Levante\, 0\, 14007 Córdoba\, Córdoba\, España
CATEGORIES:Procesión
ATTACH;FMTTYPE=image/jpeg:https://cordobacapitalcofrade.com/wp-content/uploads/2025/11/253d2468-8f3d-4665-b43a-eb385a2aee78_16-9-discover-aspect-ratio_default_0.jpg
END:VEVENT
BEGIN:VEVENT
DTSTART;TZID=UTC:20251214T100000
DTEND;TZID=UTC:20251214T120000
DTSTAMP:20260421T010454
CREATED:20251208T180305Z
LAST-MODIFIED:20251208T182721Z
UID:7880-1765706400-1765713600@cordobacapitalcofrade.com
SUMMARY:Igualá de costaleras de María Santísima de la Encarnación
DESCRIPTION:Igualá de costaleras de María Santísima de la Encarnación\, a las 10:00 horas en la Plaza de Jesús Divino Obrero.
URL:https://cordobacapitalcofrade.com/agenda/iguala-de-costaleros-de-maria-santisima-de-la-encarnacion/
LOCATION:Casa de Hermandad del Amor\, Pje. Cristo del Amor\, 7\, Sur\, 14009 Córdoba\, Córdoba\, España
CATEGORIES:Igualás de costaleros
ATTACH;FMTTYPE=image/jpeg:https://cordobacapitalcofrade.com/wp-content/uploads/2025/12/589271953_18501560995076566_1022552833414810569_n.jpg
END:VEVENT
BEGIN:VEVENT
DTSTART;TZID=UTC:20251214T103000
DTEND;TZID=UTC:20251214T140000
DTSTAMP:20260421T010454
CREATED:20251208T174334Z
LAST-MODIFIED:20251208T174334Z
UID:7863-1765708200-1765720800@cordobacapitalcofrade.com
SUMMARY:Ensayo solidario "Échanos Kilos" organizado por la Hermandad del Carmen de Puerta Nueva
DESCRIPTION:Ensayo solidario «Échanos Kilos» para recaudar alimentos para el comedor social de los Trinitarios a las 10:30 horas desde la Parroquia de Nuestra Señora del Carmen
URL:https://cordobacapitalcofrade.com/agenda/ensayo-solidario-echanos-kilos-organizado-por-la-hermandad-del-carmen-de-puerta-nueva/
LOCATION:Parroquia de Nuestra Señora del Carmen\, C. Rd. de Andújar\,23\, Córdoba\, España
CATEGORIES:Ensayos Costaleros
ATTACH;FMTTYPE=image/jpeg:https://cordobacapitalcofrade.com/wp-content/uploads/2025/12/592909737_887886940562929_7247450304799158807_n.jpg
END:VEVENT
BEGIN:VEVENT
DTSTART;TZID=UTC:20251214T113000
DTEND;TZID=UTC:20251214T133000
DTSTAMP:20260421T010454
CREATED:20251112T121954Z
LAST-MODIFIED:20251112T121954Z
UID:7473-1765711800-1765719000@cordobacapitalcofrade.com
SUMMARY:Igualá de costaleros del Santísimo Cristo de las Lágrimas
DESCRIPTION:Igualá de costaleros del Santísimo Cristo de las Lágrimas\, a las 11:00 horas en la Plaza de la Marina Española.
URL:https://cordobacapitalcofrade.com/agenda/iguala-de-costaleros-del-santisimo-cristo-de-las-lagrimas-3/
LOCATION:Parroquia de Nuestra Señora de la Asunción\, Plaza de la Marina Española\, s/n\, Noroeste\, 14011 Córdoba\, Córdoba\, España
CATEGORIES:Igualás de costaleros
ATTACH;FMTTYPE=image/jpeg:https://cordobacapitalcofrade.com/wp-content/uploads/2025/11/579200427_862722889613668_4271778625751565446_n.jpg
END:VEVENT
BEGIN:VEVENT
DTSTART;TZID=UTC:20251214T131500
DTEND;TZID=UTC:20251214T143000
DTSTAMP:20260421T010454
CREATED:20251201T153959Z
LAST-MODIFIED:20251201T153959Z
UID:7788-1765718100-1765722600@cordobacapitalcofrade.com
SUMMARY:Fiesta Principal de María Santísima de la Esperanza
DESCRIPTION:Fiesta Principal de María Santísima de la Esperanza a las 13:15 horas en la Parroquia de San Andrés Apóstol. La Eucaristía estará presidida por D. Demetrio Fernández González\, Obispo Emérito de Córdoba.
URL:https://cordobacapitalcofrade.com/agenda/fiesta-principal-de-maria-santisima-de-la-esperanza-2/
LOCATION:Parroquia de San Andrés Apóstol\, Pl. San Andrés\, 0\, Córdoba\, España
CATEGORIES:Cultos
ATTACH;FMTTYPE=image/jpeg:https://cordobacapitalcofrade.com/wp-content/uploads/2025/12/489408017_1142050874630365_1258022902810714812_n.jpg
END:VEVENT
BEGIN:VEVENT
DTSTART;TZID=UTC:20251215T193000
DTEND;TZID=UTC:20251217T203000
DTSTAMP:20260421T010454
CREATED:20251211T131011Z
LAST-MODIFIED:20251211T131011Z
UID:7927-1765827000-1766003400@cordobacapitalcofrade.com
SUMMARY:Solemne Triduo en honor de María Santísima de la O
DESCRIPTION:Solemne Triduo en honor de María Santísima de la O\, a las 20:00 horas en la Parroquia de Nuestra Señora de la Aurora. Previamente a las 19:30 horas\, rezo del Santo Rosario y Ejercicio del Triduo.
URL:https://cordobacapitalcofrade.com/agenda/solemne-triduo-en-honor-de-maria-santisima-de-la-o/
LOCATION:Parroquia de Nuestra Señora de la Aurora\, Plaza Mahatma Gandhi sn\, Córdoba\, Córdoba\, 14014\, España
CATEGORIES:Cultos
ATTACH;FMTTYPE=image/jpeg:https://cordobacapitalcofrade.com/wp-content/uploads/2025/12/481826380_643408051607096_7354595368989429128_n.jpg
END:VEVENT
BEGIN:VEVENT
DTSTART;TZID=UTC:20251216T203000
DTEND;TZID=UTC:20251216T211500
DTSTAMP:20260421T010454
CREATED:20251208T185252Z
LAST-MODIFIED:20251208T185252Z
UID:7924-1765917000-1765919700@cordobacapitalcofrade.com
SUMMARY:Presentación de los actos conmemorativos del XXV aniversario de María Santísima de la Esperanza del Valle
DESCRIPTION:Presentación de los actos conmemorativos del XXV aniversario de María Santísima de la Esperanza del Valle\, a las 20:30 horas en la Parroquia del Beato Álvaro de Córdoba.
URL:https://cordobacapitalcofrade.com/agenda/presentacion-de-los-actos-conmemorativos-del-xxv-aniversario-de-maria-santisima-de-la-esperanza-del-valle/
LOCATION:Parroquia del Beato Álvaro de Córdoba\, Av. Guerrita\, 23\, 14005 Córdoba\, Córdoba\, España
CATEGORIES:Presentación
ATTACH;FMTTYPE=image/jpeg:https://cordobacapitalcofrade.com/wp-content/uploads/2025/12/IMG-20251206-WA0006-819x1024-1.jpg
END:VEVENT
BEGIN:VEVENT
DTSTART;TZID=UTC:20251217T193000
DTEND;TZID=UTC:20251219T203000
DTSTAMP:20260421T010454
CREATED:20251215T160624Z
LAST-MODIFIED:20251215T160624Z
UID:8081-1765999800-1766176200@cordobacapitalcofrade.com
SUMMARY:Solemne Triduo de Nuestra Señora del Buen Fin
DESCRIPTION:Solemne Triduo de Nuestra Señora del Buen Fin a las 19:30 horas en la Parroquia de San José y Espíritu Santo.
URL:https://cordobacapitalcofrade.com/agenda/solemne-triduo-de-nuestra-senora-del-buen-fin-2/
LOCATION:Parroquia de San José y Espíritu Santo\, Pl. de Santa Teresa\, 1\, Córdoba\, España
CATEGORIES:Cultos
ATTACH;FMTTYPE=image/jpeg:https://cordobacapitalcofrade.com/wp-content/uploads/2025/12/470013817_18255889207273736_6917097683440030849_n.jpg
END:VEVENT
BEGIN:VEVENT
DTSTART;TZID=UTC:20251217T200000
DTEND;TZID=UTC:20251219T210000
DTSTAMP:20260421T010454
CREATED:20251214T125043Z
LAST-MODIFIED:20251214T125043Z
UID:8041-1766001600-1766178000@cordobacapitalcofrade.com
SUMMARY:Triduo en honor de María Santísima de la Esperanza del Valle
DESCRIPTION:Triduo en honor de María Santísima de la Esperanza del Valle\, a las 20:00 horas en la Parroquia del Beato Álvaro de Córdoba.
URL:https://cordobacapitalcofrade.com/agenda/triduo-en-honor-de-maria-santisima-de-la-esperanza-del-valle/
LOCATION:Parroquia del Beato Álvaro de Córdoba\, Av. Guerrita\, 23\, 14005 Córdoba\, Córdoba\, España
CATEGORIES:Cultos
ATTACH;FMTTYPE=image/jpeg:https://cordobacapitalcofrade.com/wp-content/uploads/2025/12/Triduo-Esperanza-del-Valle-0002.jpg
END:VEVENT
BEGIN:VEVENT
DTSTART;TZID=UTC:20251218T090000
DTEND;TZID=UTC:20251218T210000
DTSTAMP:20260421T010454
CREATED:20251201T154803Z
LAST-MODIFIED:20251201T154803Z
UID:7790-1766048400-1766091600@cordobacapitalcofrade.com
SUMMARY:Besamanos de María Santísima de la Esperanza
DESCRIPTION:Besamanos de María Santísima de la Esperanza en horario de 09:00 a 21:00 horas en la Parroquia de San Andrés Apóstol.
URL:https://cordobacapitalcofrade.com/agenda/besamanos-de-maria-santisima-de-la-esperanza-3/
LOCATION:Parroquia de San Andrés Apóstol\, Pl. San Andrés\, 0\, Córdoba\, España
CATEGORIES:Cultos
ATTACH;FMTTYPE=image/jpeg:https://cordobacapitalcofrade.com/wp-content/uploads/2025/12/Besamanos-Esperanza-0128-scaled.jpg
END:VEVENT
BEGIN:VEVENT
DTSTART;TZID=UTC:20251218T100000
DTEND;TZID=UTC:20251218T220000
DTSTAMP:20260421T010454
CREATED:20251211T131611Z
LAST-MODIFIED:20251211T131611Z
UID:7932-1766052000-1766095200@cordobacapitalcofrade.com
SUMMARY:Besamanos de María Santísima de la O
DESCRIPTION:Besamanos de María Santísima de la O en horario de 10:00 a 22:00 horas en la Parroquia de Nuestra Señora de la Aurora.
URL:https://cordobacapitalcofrade.com/agenda/besamanos-de-maria-santisima-de-la-o-2/
LOCATION:Parroquia de Nuestra Señora de la Aurora\, Plaza Mahatma Gandhi sn\, Córdoba\, Córdoba\, 14014\, España
CATEGORIES:Cultos
ATTACH;FMTTYPE=image/jpeg:https://cordobacapitalcofrade.com/wp-content/uploads/2025/12/482225567_643410561606845_5857505422686074178_n.jpg
END:VEVENT
BEGIN:VEVENT
DTSTART;TZID=UTC:20251218T200000
DTEND;TZID=UTC:20251218T210000
DTSTAMP:20260421T010454
CREATED:20251211T131252Z
LAST-MODIFIED:20251211T131252Z
UID:7930-1766088000-1766091600@cordobacapitalcofrade.com
SUMMARY:Fiesta de Regla de la Hermandad de la O
DESCRIPTION:Fiesta de Regla de la Hermandad\, a las 20:00 horas en la Parroquia de Nuestra Señora de la Aurora.
URL:https://cordobacapitalcofrade.com/agenda/fiesta-de-regla-de-la-hermandad-de-la-o-2/
LOCATION:Parroquia de Nuestra Señora de la Aurora\, Plaza Mahatma Gandhi sn\, Córdoba\, Córdoba\, 14014\, España
CATEGORIES:Cultos
ATTACH;FMTTYPE=image/jpeg:https://cordobacapitalcofrade.com/wp-content/uploads/2025/12/481826380_643408051607096_7354595368989429128_n.jpg
END:VEVENT
BEGIN:VEVENT
DTSTART;TZID=UTC:20251219T204500
DTEND;TZID=UTC:20251219T211500
DTSTAMP:20260421T010454
CREATED:20251217T180156Z
LAST-MODIFIED:20251217T180156Z
UID:8112-1766177100-1766178900@cordobacapitalcofrade.com
SUMMARY:Presentación del cartel conmemorativo del XXV aniversario de la bendición de María Santísima de la Esperanza del Valle
DESCRIPTION:Presentación del cartel conmemorativo del XXV aniversario de la bendición de María Santísima de la Esperanza del Valle a las 20:45 horas en la Parroquia del Beato Álvaro de Córdoba.
URL:https://cordobacapitalcofrade.com/agenda/presentacion-del-cartel-conmemorativo-del-xxv-aniversario-de-la-bendicion-de-maria-santisima-de-la-esperanza-del-valle/
LOCATION:Parroquia del Beato Álvaro de Córdoba\, Av. Guerrita\, 23\, 14005 Córdoba\, Córdoba\, España
CATEGORIES:Presentación
ATTACH;FMTTYPE=image/jpeg:https://cordobacapitalcofrade.com/wp-content/uploads/2025/12/600277067_1249711693856604_3806146759754963826_n.jpg
END:VEVENT
BEGIN:VEVENT
DTSTART;TZID=UTC:20251220T100000
DTEND;TZID=UTC:20251220T140000
DTSTAMP:20260421T010454
CREATED:20251215T161926Z
LAST-MODIFIED:20251215T161926Z
UID:8096-1766224800-1766239200@cordobacapitalcofrade.com
SUMMARY:3er Ensayo de costaleros del Niño Jesús de la Compañía
DESCRIPTION:3er Ensayo de costaleros del Niño Jesús de la Compañía a las 10:00 horas desde la Parroquia del Salvador y Santo Domingo de Silos (Compañía).
URL:https://cordobacapitalcofrade.com/agenda/3er-ensayo-de-costaleros-del-nino-jesus-de-la-compania/
LOCATION:Parroquia Salvador y Santo Domingo de Silos (Compañía)\, Pl. de la Compañía\, 7\, Córdoba\, España
CATEGORIES:Ensayos Costaleros
ATTACH;FMTTYPE=image/jpeg:https://cordobacapitalcofrade.com/wp-content/uploads/2025/12/Procesion-Extraordinaria-Nino-Jesus-de-la-Compania-0142-min-scaled.jpg
END:VEVENT
BEGIN:VEVENT
DTSTART;TZID=UTC:20251220T110000
DTEND;TZID=UTC:20251220T190000
DTSTAMP:20260421T010454
CREATED:20251215T161001Z
LAST-MODIFIED:20251215T161001Z
UID:8086-1766228400-1766257200@cordobacapitalcofrade.com
SUMMARY:Besamanos de Nuestra Señora del Buen Fin
DESCRIPTION:Besamanos de Nuestra Señora del Buen Fin en horario de 11:00 a 19:00 horas en la Parroquia de San José y Espíritu Santo.
URL:https://cordobacapitalcofrade.com/agenda/besamanos-de-nuestra-senora-del-buen-fin-2/
LOCATION:Parroquia de San José y Espíritu Santo\, Pl. de Santa Teresa\, 1\, Córdoba\, España
CATEGORIES:Cultos
ATTACH;FMTTYPE=image/jpeg:https://cordobacapitalcofrade.com/wp-content/uploads/2025/12/469597866_18255753082273736_9067188179122748952_n.jpg
END:VEVENT
BEGIN:VEVENT
DTSTART;TZID=UTC:20251220T120000
DTEND;TZID=UTC:20251220T220000
DTSTAMP:20260421T010454
CREATED:20251211T165426Z
LAST-MODIFIED:20251211T165426Z
UID:8026-1766232000-1766268000@cordobacapitalcofrade.com
SUMMARY:IV Zambomba de Bondad
DESCRIPTION:IV Zambomba de Bondad desde las 12:00 horas en el Patio de la Casa de Hdad. de la Bondad en la Plaza del Santuario de la Fuensanta. Habrá diferentes actuaciones\, entre ellas la del Coro Ritmo Sureste (14:00 horas)\, Zambomba Flamenca Los Senderos del Arte (17:00 horas) y Zambomba Flamenca Isabel Galo al cante\, Fran Tari a la guitarra y Mario Cobos a la percusión (20:00 horas).
URL:https://cordobacapitalcofrade.com/agenda/iv-zambomba-de-bondad/
LOCATION:Plaza Santuario Nuestra Señora de la Fuensanta\, Plaza Santuario Nuestra Señora de la Fuensanta\, Córdoba\, Córdoba\, 14010\, España
CATEGORIES:zambomba
ATTACH;FMTTYPE=image/jpeg:https://cordobacapitalcofrade.com/wp-content/uploads/2025/12/596114392_1190441486561959_3167435007141801761_n.jpg
END:VEVENT
BEGIN:VEVENT
DTSTART;TZID=UTC:20251220T130000
DTEND;TZID=UTC:20251220T233000
DTSTAMP:20260421T010454
CREATED:20251215T161319Z
LAST-MODIFIED:20251215T161319Z
UID:8089-1766235600-1766273400@cordobacapitalcofrade.com
SUMMARY:Zambomba salesiana organizada por la Hermandad del Prendimiento
DESCRIPTION:Zambomba salesiana organizada por la Cofradía\, a partir de las 13:00 horas en el Patio de antiguos alumnos del Colegio de los Salesianos.
URL:https://cordobacapitalcofrade.com/agenda/zambomba-salesiana-organizada-por-la-hermandad-del-prendimiento/
LOCATION:Patio Antiguos Alumnos Salesianos\, C. María Auxiliadora\, 12\, Centro\, 14002 Córdoba\, Córdoba\, España
CATEGORIES:zambomba
ATTACH;FMTTYPE=image/jpeg:https://cordobacapitalcofrade.com/wp-content/uploads/2025/12/593089868_1293867489450508_2868157531812927408_n.jpg
END:VEVENT
BEGIN:VEVENT
DTSTART;TZID=UTC:20251220T130000
DTEND;TZID=UTC:20251220T233000
DTSTAMP:20260421T010454
CREATED:20251215T161602Z
LAST-MODIFIED:20251215T161602Z
UID:8092-1766235600-1766273400@cordobacapitalcofrade.com
SUMMARY:Zambomba navideña organizada por la Hermandad
DESCRIPTION:Zambomba navideña organizada por la Hermandad de 13:00 a 23:30 horas en la C/ Federico Ledoux. Actuarán diferentes grupos; Coro Ritmo y Compás (13:30 horas)\, Coro La Unión (16:30 horas) y el Coro Aromas de Poniente (19:30 horas).
URL:https://cordobacapitalcofrade.com/agenda/zambomba-navidena-organizada-por-la-hermandad/
LOCATION:C/ Federico Ledoux\, Poniente Nte.\, 14005 Córdoba\, Córdoba\, Spain
CATEGORIES:zambomba
ATTACH;FMTTYPE=image/png:https://cordobacapitalcofrade.com/wp-content/uploads/2025/12/Captura-de-pantalla-2025-12-15-171335.png
END:VEVENT
BEGIN:VEVENT
DTSTART;TZID=UTC:20251220T190000
DTEND;TZID=UTC:20251220T203000
DTSTAMP:20260421T010454
CREATED:20251118T184016Z
LAST-MODIFIED:20251118T184016Z
UID:7604-1766257200-1766262600@cordobacapitalcofrade.com
SUMMARY:Otoño en la Iglesias Fernandinas - Extraordinario de Navidad
DESCRIPTION:Otoño en las Iglesias Fernandinas – Extraordinario de Navidad \nEl 20 de diciembre a las 19 horas en la Santa Iglesia Catedral\, concierto Extraordinario de Navidad. \n<<A Magnificat ad Gloriam: dialogus inter Mariam et Caelum>> \n<<Magníficat>> en Re mayor BWV 243\, J. S. Bach y \n<<Gloria>> de la Gran Misa en Do menor\, KV 427 W. A. Mozart. \nOrquesta y coro de la catedral de Córdoba dirigido por Clemente Mata. \nEntrada libre hasta completar aforo.
URL:https://cordobacapitalcofrade.com/agenda/otono-en-la-iglesias-fernandinas-extraordinario-de-navidad/
LOCATION:Santa Iglesia Catedral de Córdoba\, C. Cardenal Herrero\, 1\, Córdoba\, España
CATEGORIES:Conciertos
ATTACH;FMTTYPE=image/jpeg:https://cordobacapitalcofrade.com/wp-content/uploads/2025/11/IMG-20251118-WA0047.jpg
END:VEVENT
BEGIN:VEVENT
DTSTART;TZID=UTC:20251220T193000
DTEND;TZID=UTC:20251220T201500
DTSTAMP:20260421T010454
CREATED:20251215T162103Z
LAST-MODIFIED:20251215T162103Z
UID:8099-1766259000-1766261700@cordobacapitalcofrade.com
SUMMARY:Santa Misa conmemorativa del XLIV aniversario de la fundación de la Hermandad de los Dolores de Alcolea
DESCRIPTION:Santa Misa conmemorativa del XLIV aniversario de la fundación de la Hermandad\, a las 19:30 horas en la Parroquia de Nuestra Señora de los Ángeles.
URL:https://cordobacapitalcofrade.com/agenda/santa-misa-conmemorativa-del-xliv-aniversario-de-la-fundacion-de-la-hermandad-de-los-dolores-de-alcolea/
LOCATION:Parroquia de Nuestra Señora de los Ángeles\, 14610 Córdoba\, Córdoba\, España
CATEGORIES:Cultos
ATTACH;FMTTYPE=image/jpeg:https://cordobacapitalcofrade.com/wp-content/uploads/2025/12/592928833_1256267223197241_9038336325596309916_n.jpg
END:VEVENT
BEGIN:VEVENT
DTSTART;TZID=UTC:20251220T193000
DTEND;TZID=UTC:20251220T203000
DTSTAMP:20260421T010454
CREATED:20251215T160807Z
LAST-MODIFIED:20251215T160807Z
UID:8084-1766259000-1766262600@cordobacapitalcofrade.com
SUMMARY:Función Solemne de Nuestra Señora del Buen Fin
DESCRIPTION:Función Solemne de Nuestra Señora del Buen Fin\, a las 19:30 horas en la Parroquia de San José y Espíritu Santo.
URL:https://cordobacapitalcofrade.com/agenda/funcion-solemne-de-nuestra-senora-del-buen-fin-2/
LOCATION:Parroquia de San José y Espíritu Santo\, Pl. de Santa Teresa\, 1\, Córdoba\, España
CATEGORIES:Cultos
ATTACH;FMTTYPE=image/jpeg:https://cordobacapitalcofrade.com/wp-content/uploads/2025/12/470013817_18255889207273736_6917097683440030849_n.jpg
END:VEVENT
END:VCALENDAR