BEGIN:VCALENDAR
VERSION:2.0
PRODID:-//Agenda Cofrade 365 Días - ECPv6.3.7//NONSGML v1.0//EN
CALSCALE:GREGORIAN
METHOD:PUBLISH
X-WR-CALNAME:Agenda Cofrade 365 Días
X-ORIGINAL-URL:https://cordobacapitalcofrade.com
X-WR-CALDESC:Eventos para Agenda Cofrade 365 Días
REFRESH-INTERVAL;VALUE=DURATION:PT1H
X-Robots-Tag:noindex
X-PUBLISHED-TTL:PT1H
BEGIN:VTIMEZONE
TZID:UTC
BEGIN:STANDARD
TZOFFSETFROM:+0000
TZOFFSETTO:+0000
TZNAME:UTC
DTSTART:20260101T000000
END:STANDARD
END:VTIMEZONE
BEGIN:VEVENT
DTSTART;TZID=UTC:20260103T164500
DTEND;TZID=UTC:20260103T210000
DTSTAMP:20260420T174533
CREATED:20251228T142704Z
LAST-MODIFIED:20251228T142704Z
UID:8229-1767458700-1767474000@cordobacapitalcofrade.com
SUMMARY:Heraldo Real 2026 organizado por las Hermandades del Descendimiento y Vera Cruz
DESCRIPTION:Heraldo Real 2026 organizado por las Hermandades de la Vera Cruz y Descendimiento desde las 16:45 con la entrega de llaves de la casa de los niños por parte del Párroco de San José y Espíritu Santo al Heraldo Real siguiendo con un pasacalles con este recorrido: Salida (17:00 horas)\, Paseo Cristo del Descendimiento\, Avenida de la Diputación\, Pío XII\, Beato Henares\, Carretera de Castro\, Avenida de Cádiz\, Plaza de Santa Teresa\, Paseo Cristo del Descendimiento (19:00 horas). A la finalización\, chocolatada y convivencia.
URL:https://cordobacapitalcofrade.com/agenda/heraldo-real-2026-organizado-por-las-hermandades-del-descendimiento-y-vera-cruz/
LOCATION:Paseo Cristo del Descendimiento\, Paseo Cristo del Descendimiento\, Córdoba\, Córdoba\, 14009\, España
CATEGORIES:Cabalgata
ATTACH;FMTTYPE=image/jpeg:https://cordobacapitalcofrade.com/wp-content/uploads/2025/12/606620833_1257198129766135_5962378376898907476_n.jpg
END:VEVENT
BEGIN:VEVENT
DTSTART;TZID=UTC:20260103T170000
DTEND;TZID=UTC:20260103T200000
DTSTAMP:20260420T174533
CREATED:20251228T145503Z
LAST-MODIFIED:20251228T145503Z
UID:8244-1767459600-1767470400@cordobacapitalcofrade.com
SUMMARY:Cartero Real Córdoba 2026
DESCRIPTION:Cartero Real Córdoba 2026 desde la Plaza de las Tendillas con este recorrido Salida (17:00 horas)\, Claudio Marcelo Capitulares\, con parada en el Ayuntamiento\, San Pablo\, Plaza de San Andrés\, Realejo Santa María de Gracia\, Plaza de San Lorenzo\, Jesús del Calvario\, Plaza de San Juan de Letrán\, Frailes\, Plaza del Cristo de Gracia. Las bandas participantes durante el recorrido son la Agrupación Musical «Cristo de Gracia» de Córdoba y la Banda de Cornetas y Tambores «Coronación de Espinas» de Córdoba.
URL:https://cordobacapitalcofrade.com/agenda/cartero-real-cordoba-2026/
LOCATION:Plaza de las Tendillas\, Centro\, Córdoba\, Córdoba\, Spain
CATEGORIES:Cartero Real
ATTACH;FMTTYPE=image/jpeg:https://cordobacapitalcofrade.com/wp-content/uploads/2025/12/598296323_18495348136073126_546556872667953795_n.jpg
END:VEVENT
BEGIN:VEVENT
DTSTART;TZID=UTC:20260103T173000
DTEND;TZID=UTC:20260103T193000
DTSTAMP:20260420T174533
CREATED:20251228T144433Z
LAST-MODIFIED:20251228T144433Z
UID:8241-1767461400-1767468600@cordobacapitalcofrade.com
SUMMARY:Visita de sus Majestades los Reyes Magos de Oriente a la Hermandad de la Sagrada Cena
DESCRIPTION:Visita de sus Majestades los Reyes Magos de Oriente a la Hermandad de la Sagrada Cena desde las 17:30 horas en la Capilla de los Titulares en la Parroquia del Beato Álvaro de Córdoba.
URL:https://cordobacapitalcofrade.com/agenda/visita-de-sus-majestades-los-reyes-magos-de-oriente-a-la-hermandad-de-la-sagrada-cena/
LOCATION:Parroquia del Beato Álvaro de Córdoba\, Av. Guerrita\, 23\, 14005 Córdoba\, Córdoba\, España
ATTACH;FMTTYPE=image/jpeg:https://cordobacapitalcofrade.com/wp-content/uploads/2025/12/606423387_1258736006287506_7540660414747162232_n.jpg
END:VEVENT
BEGIN:VEVENT
DTSTART;TZID=UTC:20260104T113000
DTEND;TZID=UTC:20260104T140000
DTSTAMP:20260420T174533
CREATED:20251228T142026Z
LAST-MODIFIED:20251228T142026Z
UID:8226-1767526200-1767535200@cordobacapitalcofrade.com
SUMMARY:Visita del Cartero Real a la Hermandad del Amor
DESCRIPTION:Visita del Cartero Real a la Hermandad del Amor en horario de 11:30 a 14:00 horas en la Casa de Hdad.
URL:https://cordobacapitalcofrade.com/agenda/visita-del-cartero-real-a-la-hermandad-del-amor/
LOCATION:Casa de Hermandad del Amor\, Pje. Cristo del Amor\, 7\, Sur\, 14009 Córdoba\, Córdoba\, España
CATEGORIES:Cartero Real
ATTACH;FMTTYPE=image/jpeg:https://cordobacapitalcofrade.com/wp-content/uploads/2025/12/607210320_18505318987076566_3745278841258798890_n.jpg
END:VEVENT
BEGIN:VEVENT
DTSTART;TZID=UTC:20260104T114500
DTEND;TZID=UTC:20260104T133000
DTSTAMP:20260420T174533
CREATED:20251230T184937Z
LAST-MODIFIED:20251230T184937Z
UID:8247-1767527100-1767533400@cordobacapitalcofrade.com
SUMMARY:Adoración al Niño Jesús y recepción de sus Majestades los Reyes Magos de Oriente en la Hermandad del Remedio de Ánimas
DESCRIPTION:Adoración de sus Majestades los Reyes Magos de Oriente al Niño Jesús tras la Misa de 11:00 horas en la Real Parroquia de San Lorenzo Mártir.  \n– A las 12:00 horas\, recepción de sus Majestades en la Casa de Hdad. sita en la C/ Jesús del Calvario\, 19. 
URL:https://cordobacapitalcofrade.com/agenda/adoracion-al-nino-jesus-y-recepcion-de-sus-majestades-los-reyes-magos-de-oriente-en-la-hermandad-del-remedio-de-animas/
LOCATION:Real Parroquia de San Lorenzo Mártir\, Pl. de San Lorenzo\, 5\, Córdoba\, España
ATTACH;FMTTYPE=image/jpeg:https://cordobacapitalcofrade.com/wp-content/uploads/2025/12/605546896_1296416379196572_1908247518277031596_n.jpg
END:VEVENT
BEGIN:VEVENT
DTSTART;TZID=UTC:20260104T170000
DTEND;TZID=UTC:20260104T190000
DTSTAMP:20260420T174533
CREATED:20251228T143607Z
LAST-MODIFIED:20251228T143607Z
UID:8235-1767546000-1767553200@cordobacapitalcofrade.com
SUMMARY:Visita de sus Majestades los Reyes Magos de Oriente a la Hermandad de la Sentencia
DESCRIPTION:Visita de sus Majestades los Reyes Magos de Oriente a partir de las 17:00 horas en la Ermita de la Alegría.
URL:https://cordobacapitalcofrade.com/agenda/visita-de-sus-majestades-los-reyes-magos-de-oriente-a-la-hermandad-de-la-sentencia-2/
LOCATION:Ermita de la Alegria\, Calle Menéndez Pelayo\, 6\, Córdoba\, Córdoba\, 14008\, España
ATTACH;FMTTYPE=image/jpeg:https://cordobacapitalcofrade.com/wp-content/uploads/2025/12/605541147_1344360761055204_4589712970854182421_n.jpg
END:VEVENT
BEGIN:VEVENT
DTSTART;TZID=UTC:20260105T170000
DTEND;TZID=UTC:20260105T223000
DTSTAMP:20260420T174533
CREATED:20251228T135444Z
LAST-MODIFIED:20251228T135444Z
UID:8214-1767632400-1767652200@cordobacapitalcofrade.com
SUMMARY:Cabalgata de Reyes Magos Oficial 2026
DESCRIPTION:Cabalgata de Reyes Magos Oficial 2026 desde la Plaza de Santa Teresa con este itinerario: Salida (17:00 horas)\, Avenida de Cádiz\, Plaza de Andalucía\, Puente de San Rafael\, Avenida del Corregidor\, Avenida de Vallellano\, Paseo de la Victoria\, Avenida Ronda de los Tejares\, Plaza de Colón\, Avenida de los Molinos\, Avenida de las Ollerias\, (21:30 horas). Al llegar a la Ronda del Marrubial la comitiva Real se subirán a tres caballos y se dirigirán hasta la Plaza Cristo de Gracia donde harán una Adoración al Niño Jesús. \n– Tres bandas cordobesas acompañarán al cortejo; la Agrupación Musical «Cristo de Gracia»\, Banda de Música «Nuestra Señora de la Estrella» y la Banda de Cornetas y Tambores «Coronación de Espinas» de Córdoba.
URL:https://cordobacapitalcofrade.com/agenda/cabalgata-de-reyes-magos-oficial-2026/
LOCATION:Plaza de Santa Teresa\, Plaza de Santa Teresa\, Córdoba\, Córdoba\, 14011
CATEGORIES:Cabalgata
ATTACH;FMTTYPE=image/webp:https://cordobacapitalcofrade.com/wp-content/uploads/2025/12/104671f0-ff73-4908-a6b7-aed65c57d5f1_source-aspect-ratio_default_0.webp
END:VEVENT
BEGIN:VEVENT
DTSTART;TZID=UTC:20260105T210000
DTEND;TZID=UTC:20260105T233000
DTSTAMP:20260420T174533
CREATED:20251228T140018Z
LAST-MODIFIED:20251228T140018Z
UID:8217-1767646800-1767655800@cordobacapitalcofrade.com
SUMMARY:Cabalgata de Reyes Magos del barrio de Santa Rosa 2026
DESCRIPTION:Cabalgata de Reyes Magos del barrio de Santa Rosa 2026 desde el patio del Colegio Grupo Cántico con este recorrido: Salida (21:00 horas)\, Virgen de las Angustias\, Cruz de Juárez\, Avenida de Almogávares\, Acera Fuente de la Salud\, Avenida Virgen de las Angustias y llegada al Restaurante Casa Antonio.
URL:https://cordobacapitalcofrade.com/agenda/cabalgata-de-reyes-magos-del-barrio-de-santa-rosa-2026/
LOCATION:Colegio Grupo Cántico\, Av. Virgen de las Angustias\, S/N\, Nte. Sierra\, 14006 Córdoba\, Córdoba\, Spain
CATEGORIES:Cabalgata
ATTACH;FMTTYPE=image/jpeg:https://cordobacapitalcofrade.com/wp-content/uploads/2025/12/fc6ef268-57aa-4a26-8db6-dd02283e1749_source-aspect-ratio_default_0.jpg
END:VEVENT
BEGIN:VEVENT
DTSTART;TZID=UTC:20260105T210000
DTEND;TZID=UTC:20260105T233000
DTSTAMP:20260420T174533
CREATED:20251228T140459Z
LAST-MODIFIED:20251228T140459Z
UID:8220-1767646800-1767655800@cordobacapitalcofrade.com
SUMMARY:Cabalgata de Reyes Magos del barrio de la Viñuela 2026
DESCRIPTION:Cabalgata de Reyes Magos del barrio de la Viñuela 2026 con este recorrido: Salida Colegio de los Califas (21:00 horas)\, Hermano Juan Fernández\, Conquistador Benito de Baños\, Avenida Jesús Rescatado\, Tras la Puerta Avenida Barcelona\, Puerta de Plasencia\, Avenida de Rabanales. Abrirá la comitiva Real la Agrupación Musical «Sagrada Cena» de Córdoba.
URL:https://cordobacapitalcofrade.com/agenda/cabalgata-de-reyes-magos-del-barrio-de-la-vinuela-2026/
LOCATION:Colegio de los Califas\, Avenida de Rabanales s/n\, Córdoba\, Córdoba\, 14007\, España
CATEGORIES:Cabalgata
ATTACH;FMTTYPE=image/jpeg:https://cordobacapitalcofrade.com/wp-content/uploads/2025/12/8ba6dc2d-b6b4-4d06-9221-6a37e2ef2ad0_source-aspect-ratio_default_0.jpg
END:VEVENT
BEGIN:VEVENT
DTSTART;TZID=UTC:20260105T210000
DTEND;TZID=UTC:20260105T233000
DTSTAMP:20260420T174533
CREATED:20251228T141203Z
LAST-MODIFIED:20251228T141203Z
UID:8223-1767646800-1767655800@cordobacapitalcofrade.com
SUMMARY:Cabalgata de Reyes Magos de Ciudad Jardín 2026
DESCRIPTION:Cabalgata de Reyes Magos de Ciudad Jardín 2026 siguiendo este recorrido: Salida desde la C/ Don Lope de Sosa\, 31 (21:00 horas)\, Maestro Priego López\, Camino de los Sastres\, Miguel Bienzo\, Antonio Maura\, Plaza de Costasol\, Damasco\, Avenida del Aeropuerto\, Gran Vía Parque\, Avenida de Guerrita\, José María Martorell\, Avenida de Manolete\, Avenida de Lagartijo\, Camino Viejo de Almodóvar\, Machaquito\, Gran Vía Parque (fin de la cabalgata). 
URL:https://cordobacapitalcofrade.com/agenda/cabalgata-de-reyes-magos-de-ciudad-jardin-2026/
LOCATION:C/ Don Lope de Sosa\, 31\, C. Don Lope de Sosa\, 31\, Poniente Sur\, 14004 Córdoba\, Córdoba\, Spain
CATEGORIES:Cabalgata
ATTACH;FMTTYPE=image/jpeg:https://cordobacapitalcofrade.com/wp-content/uploads/2025/12/8a74d5d4-8863-44ba-a8b4-df43a91688bc_source-aspect-ratio_1600w_0.jpg
END:VEVENT
BEGIN:VEVENT
DTSTART;TZID=UTC:20260109T190000
DTEND;TZID=UTC:20260109T201500
DTSTAMP:20260420T174533
CREATED:20260106T134336Z
LAST-MODIFIED:20260106T134336Z
UID:8265-1767985200-1767989700@cordobacapitalcofrade.com
SUMMARY:Santa Misa en honor de San Eulogio de Córdoba\, Mártir
DESCRIPTION:Santa Misa en honor de San Eulogio de Córdoba\, Mártir\, a las 19:00 horas en la Basílica de San Pedro. A las 19:30 horas\, Exposición de su Divina Majestad\, Adoración y Oración Jubilar. A las 20:00 horas\, Bendición y reserva.
URL:https://cordobacapitalcofrade.com/agenda/santa-misa-en-honor-de-san-eulogio-de-cordoba-martir/
LOCATION:Basílica de San Pedro\, Pl. de San Pedro\, 1\, 14002 Córdoba\, Córdoba\, España
CATEGORIES:Cultos
ATTACH;FMTTYPE=image/jpeg:https://cordobacapitalcofrade.com/wp-content/uploads/2026/01/608165272_1206471611578672_2617430393762697095_n.jpg
END:VEVENT
BEGIN:VEVENT
DTSTART;TZID=UTC:20260109T200000
DTEND;TZID=UTC:20260109T210000
DTSTAMP:20260420T174533
CREATED:20260103T141808Z
LAST-MODIFIED:20260103T141808Z
UID:8250-1767988800-1767992400@cordobacapitalcofrade.com
SUMMARY:Vigilia y oración ante el Santísimo preparatorio a la Procesión del Dulce Nombre de Jesús
DESCRIPTION:Vigilia y oración ante el Santísimo preparatorio a la Procesión del Dulce Nombre de Jesús\, a las 20:00 horas en la Parroquia de San Fernando.
URL:https://cordobacapitalcofrade.com/agenda/vigilia-y-oracion-ante-el-santisimo-preparatorio-a-la-procesion-del-dulce-nombre-de-jesus/
LOCATION:Parroquia de San Fernando\, C. Goya\, 24\, 14006 Córdoba\, Córdoba\, España
CATEGORIES:Cultos
ATTACH;FMTTYPE=image/jpeg:https://cordobacapitalcofrade.com/wp-content/uploads/2026/01/Besamanos-Estrella-0182-scaled.jpg
END:VEVENT
BEGIN:VEVENT
DTSTART;TZID=UTC:20260109T210000
DTEND;TZID=UTC:20260109T230000
DTSTAMP:20260420T174533
CREATED:20251108T132942Z
LAST-MODIFIED:20251108T132942Z
UID:7433-1767992400-1767999600@cordobacapitalcofrade.com
SUMMARY:Igualá de costaleros de María Santísima de la Amargura
DESCRIPTION:Igualá de costaleros de María Santísima de la Amargura\, a las 21:00 horas en el Patio del Colegio de los Trinitarios
URL:https://cordobacapitalcofrade.com/agenda/iguala-de-costaleros-de-maria-santisima-de-la-amargura/
LOCATION:Patio del Colegio de los Trinitarios\, C. Rda. del Marrubial\, 2\, Centro\, 14007 Córdoba\, Córdoba\, España
CATEGORIES:Igualás de costaleros
ATTACH;FMTTYPE=image/jpeg:https://cordobacapitalcofrade.com/wp-content/uploads/2025/11/573379043_18368326195159266_719118556927820459_n.jpeg
END:VEVENT
BEGIN:VEVENT
DTSTART;TZID=UTC:20260109T210000
DTEND;TZID=UTC:20260109T230000
DTSTAMP:20260420T174533
CREATED:20251211T155936Z
LAST-MODIFIED:20251211T155936Z
UID:7990-1767992400-1767999600@cordobacapitalcofrade.com
SUMMARY:Igualá de costaleros de Nuestro Padre Jesús de la Fe
DESCRIPTION:Igualá de costaleros de Nuestro Padre Jesús de la Fe\, a las 21:00 horas en los Salones Parroquiales del Beato Álvaro de Córdoba.
URL:https://cordobacapitalcofrade.com/agenda/iguala-de-costaleros-de-nuestro-padre-jesus-de-la-fe-2/
LOCATION:Parroquia del Beato Álvaro de Córdoba\, Av. Guerrita\, 23\, 14005 Córdoba\, Córdoba\, España
CATEGORIES:Igualás de costaleros
ATTACH;FMTTYPE=image/jpeg:https://cordobacapitalcofrade.com/wp-content/uploads/2025/12/595509106_1244458687715238_4232152793730688969_n.jpg
END:VEVENT
BEGIN:VEVENT
DTSTART;TZID=UTC:20260109T210000
DTEND;TZID=UTC:20260109T230000
DTSTAMP:20260420T174533
CREATED:20251218T131352Z
LAST-MODIFIED:20251218T131352Z
UID:8115-1767992400-1767999600@cordobacapitalcofrade.com
SUMMARY:Igualá de costaleros de Nuestro Padre Jesús de los Afligidos
DESCRIPTION:Igualá de costaleros de Nuestro Padre Jesús de los Afligidos\, a las 21:00 horas en la Parroquia de San Vicente Ferrer.
URL:https://cordobacapitalcofrade.com/agenda/iguala-de-costaleros-de-nuestro-padre-jesus-de-los-afligidos-3/
LOCATION:Parroquia de San Vicente Ferrer (Cañero)\, C. Funcionario Lázaro Navajas\, 70\, 14014 Córdoba\, España\, Córdoba\, España
CATEGORIES:Igualás de costaleros
ATTACH;FMTTYPE=image/jpeg:https://cordobacapitalcofrade.com/wp-content/uploads/2025/12/599950557_899518652584905_3188412450243647990_n.jpg
END:VEVENT
BEGIN:VEVENT
DTSTART;TZID=UTC:20260109T210000
DTEND;TZID=UTC:20260109T230000
DTSTAMP:20260420T174533
CREATED:20251218T140447Z
LAST-MODIFIED:20251218T140447Z
UID:8130-1767992400-1767999600@cordobacapitalcofrade.com
SUMMARY:Igualá de costaleros del Santísimo Cristo de la Piedad
DESCRIPTION:Igualá de costaleros del Santísimo Cristo de la Piedad\, a las 21:00 horas en la Parroquia de San Antonio María Claret.
URL:https://cordobacapitalcofrade.com/agenda/iguala-de-costaleros-del-santisimo-cristo-de-la-piedad-2/
LOCATION:Parroquia de San Antonio María Claret\, C. Sierra Nevada\, 1\, Poniente Nte.\, 14005 Córdoba\, Córdoba\, España
CATEGORIES:Igualás de costaleros
ATTACH;FMTTYPE=image/jpeg:https://cordobacapitalcofrade.com/wp-content/uploads/2025/12/G8UXfZoXMAU2OJw.jpg
END:VEVENT
BEGIN:VEVENT
DTSTART;TZID=UTC:20260109T210000
DTEND;TZID=UTC:20260109T230000
DTSTAMP:20260420T174533
CREATED:20260106T134817Z
LAST-MODIFIED:20260106T134817Z
UID:8268-1767992400-1767999600@cordobacapitalcofrade.com
SUMMARY:Igualá de costaleros de María Santísima del Amor
DESCRIPTION:Igualá de costaleros de María Santísima del Amor a las 21:30 horas en la Casa de Hermandad sita en la Avenida Conde de Vallellano\, 21.
URL:https://cordobacapitalcofrade.com/agenda/iguala-de-costaleros-de-maria-santisima-del-amor-3/
LOCATION:Casa de Hermandad de Pasión\, Avenida Conde de Vallellano\, 21.\, Córdoba\, Spain
CATEGORIES:Igualás de costaleros
ATTACH;FMTTYPE=image/jpeg:https://cordobacapitalcofrade.com/wp-content/uploads/2026/01/610931422_18297336892277039_5521389824194346353_n.jpg
END:VEVENT
BEGIN:VEVENT
DTSTART;TZID=UTC:20260109T210000
DTEND;TZID=UTC:20260109T230000
DTSTAMP:20260420T174533
CREATED:20260109T133855Z
LAST-MODIFIED:20260109T133855Z
UID:8320-1767992400-1767999600@cordobacapitalcofrade.com
SUMMARY:Igualá de costaleros de Nuestro Padre Jesús de la Humildad y Paciencia
DESCRIPTION:Igualá de costaleros de Nuestro Padre Jesús de la Humildad y Paciencia\, a las 21:00 horas en la Plaza de Capuchinos. A las 19:00 horas se celebrará la igualá de los aspirantes.
URL:https://cordobacapitalcofrade.com/agenda/iguala-de-costaleros-de-nuestro-padre-jesus-de-la-humildad-y-paciencia-3/
LOCATION:Plaza de Capuchinos\, Cordoba\, Cordoba\, Cordoba\, 14001\, España
CATEGORIES:Igualás de costaleros
ATTACH;FMTTYPE=image/png:https://cordobacapitalcofrade.com/wp-content/uploads/2026/01/Captura-de-pantalla-2026-01-09-143403.png
END:VEVENT
BEGIN:VEVENT
DTSTART;TZID=UTC:20260110T110000
DTEND;TZID=UTC:20260110T123000
DTSTAMP:20260420T174533
CREATED:20251202T130359Z
LAST-MODIFIED:20251202T130359Z
UID:7802-1768042800-1768048200@cordobacapitalcofrade.com
SUMMARY:Igualá de costaleros de Nuestra Señora de la Presentación
DESCRIPTION:Igualá de costaleros de Nuestra Señora de la Presentación\, a las 11:00 horas en la Casa de Hdad. sita en la C/ Montero\, 22.
URL:https://cordobacapitalcofrade.com/agenda/iguala-de-costaleros-de-nuestra-senora-de-la-presentacion-3/
LOCATION:Casa de Hermandad Universitaria\, C. Montero\, 22\, Centro\, 14001 Córdoba\, Córdoba\, España
CATEGORIES:Igualás de costaleros
ATTACH;FMTTYPE=image/jpeg:https://cordobacapitalcofrade.com/wp-content/uploads/2025/12/590686395_1274458001379423_3827417399245788048_n.jpeg
END:VEVENT
BEGIN:VEVENT
DTSTART;TZID=UTC:20260110T170000
DTEND;TZID=UTC:20260110T190000
DTSTAMP:20260420T174533
CREATED:20251211T132407Z
LAST-MODIFIED:20251211T132407Z
UID:7935-1768064400-1768071600@cordobacapitalcofrade.com
SUMMARY:Igualá de costaleros del Santísimo Cristo de las Penas
DESCRIPTION:Igualá de costaleros del Santísimo Cristo de las Penas\, a las 17:00 horas en la Parroquia de San Pedro Apóstol.
URL:https://cordobacapitalcofrade.com/agenda/iguala-de-costaleros-del-santisimo-cristo-de-las-penas-3/
LOCATION:Parroquia de Santiago Apóstol\, C. de Agustín Moreno\, 26\, 14002 Córdoba\, Córdoba\, España
CATEGORIES:Igualás de costaleros
ATTACH;FMTTYPE=image/jpeg:https://cordobacapitalcofrade.com/wp-content/uploads/2025/12/597826816_1362764825895738_8801302156891990778_n.jpg
END:VEVENT
BEGIN:VEVENT
DTSTART;TZID=UTC:20260110T170000
DTEND;TZID=UTC:20260110T190000
DTSTAMP:20260420T174533
CREATED:20251211T133411Z
LAST-MODIFIED:20251211T133411Z
UID:7943-1768064400-1768071600@cordobacapitalcofrade.com
SUMMARY:Igualá de costaleros de María Santísima del Dulce Nombre
DESCRIPTION:Igualá de costaleros de María Santísima del Dulce Nombre\, a las 17:00 horas en la Casa de Hdad. sita en la C/ Infante Don Juan Manuel\, 7.
URL:https://cordobacapitalcofrade.com/agenda/iguala-de-costaleros-de-maria-santisima-del-dulce-nombre-3/
LOCATION:Casa de Hermandad Vera Cruz\, C. Infante Don Juan Manuel\, 7\, Sur\, 14009 Córdoba\, Córdoba\, España
CATEGORIES:Igualás de costaleros
ATTACH;FMTTYPE=image/jpeg:https://cordobacapitalcofrade.com/wp-content/uploads/2025/12/597188906_1245226440963304_7203437569052018185_n.jpg
END:VEVENT
BEGIN:VEVENT
DTSTART;TZID=UTC:20260110T171500
DTEND;TZID=UTC:20260110T200000
DTSTAMP:20260420T174533
CREATED:20260103T142712Z
LAST-MODIFIED:20260103T142712Z
UID:8253-1768065300-1768075200@cordobacapitalcofrade.com
SUMMARY:Procesión del Dulce Nombre de Jesús
DESCRIPTION:Procesión del Dulce Nombre de Jesús a las 17:15 horas desde la Parroquia de San Fernando recorriendo las calles de la feligresía. El acompañamiento musical correrá a cargo de la Agrupación Musical «Nuestro Padre Jesús de la Redención» de Córdoba.
URL:https://cordobacapitalcofrade.com/agenda/procesion-del-dulce-nombre-de-jesus-2/
LOCATION:Parroquia de San Fernando\, C. Goya\, 24\, 14006 Córdoba\, Córdoba\, España
CATEGORIES:Procesión
ATTACH;FMTTYPE=image/jpeg:https://cordobacapitalcofrade.com/wp-content/uploads/2026/01/Procesion-Dulce-Nombre-de-Jesus-0149-min-scaled.jpg
END:VEVENT
BEGIN:VEVENT
DTSTART;TZID=UTC:20260110T173000
DTEND;TZID=UTC:20260110T193000
DTSTAMP:20260420T174533
CREATED:20260106T140352Z
LAST-MODIFIED:20260106T140352Z
UID:8272-1768066200-1768073400@cordobacapitalcofrade.com
SUMMARY:Igualá de costaleros de Nuestra Señora del Mayor Dolor en su Soledad
DESCRIPTION:Igualá de costaleros de Nuestra Señora del Mayor Dolor en su Soledad\, a las 17:30 horas en la Cuesta de San Cayetano.
URL:https://cordobacapitalcofrade.com/agenda/iguala-de-costaleros-de-nuestra-senora-del-mayor-dolor-en-su-soledad-3/
LOCATION:Cuesta de San Cayetano\, C. Cta. de San Cayetano\, 2\, Centro\, 14001 Córdoba\, Córdoba\, Spain
CATEGORIES:Igualás de costaleros
ATTACH;FMTTYPE=image/png:https://cordobacapitalcofrade.com/wp-content/uploads/2026/01/Captura-de-pantalla-2026-01-06-150130.png
END:VEVENT
BEGIN:VEVENT
DTSTART;TZID=UTC:20260111T100000
DTEND;TZID=UTC:20260111T120000
DTSTAMP:20260420T174533
CREATED:20251211T162540Z
LAST-MODIFIED:20251211T162540Z
UID:8006-1768125600-1768132800@cordobacapitalcofrade.com
SUMMARY:Igualá de costaleros de María Santísima Reina de Nuestra Alegría
DESCRIPTION:Igualá de costaleros de María Santísima Reina de Nuestra Alegría\, a las 10:00 horas en la Casa de Hdad. sita en la C/ Alarcón López\, 4.
URL:https://cordobacapitalcofrade.com/agenda/iguala-de-costaleros-de-maria-santisima-reina-de-nuestra-alegria-2/
LOCATION:Casa de Hermandad del Resucitado\, C. Alarcón López\, 4\, 14001 Córdoba\, Córdoba\, España
CATEGORIES:Igualás de costaleros
ATTACH;FMTTYPE=image/jpeg:https://cordobacapitalcofrade.com/wp-content/uploads/2025/12/587812482_18337295902237400_989455209680514128_n.jpg
END:VEVENT
BEGIN:VEVENT
DTSTART;TZID=UTC:20260111T120000
DTEND;TZID=UTC:20260111T143000
DTSTAMP:20260420T174533
CREATED:20260106T140559Z
LAST-MODIFIED:20260106T140559Z
UID:8275-1768132800-1768141800@cordobacapitalcofrade.com
SUMMARY:Igualá de costaleros de Nuestro Padre Jesús del Perdón
DESCRIPTION:Igualá de costaleros de Nuestro Padre Jesús del Perdón\, a las 12:00 horas en la Parroquia de San Juan y Todos los Santos (Trinidad).
URL:https://cordobacapitalcofrade.com/agenda/iguala-de-costaleros-de-nuestro-padre-jesus-del-perdon-3/
LOCATION:Parroquia de la Trinidad\, Plaza de la Trinidad\, Córdoba\, España
CATEGORIES:Igualás de costaleros
ATTACH;FMTTYPE=image/jpeg:https://cordobacapitalcofrade.com/wp-content/uploads/2026/01/608233111_1346436747527024_2266574003100445517_n.jpg
END:VEVENT
BEGIN:VEVENT
DTSTART;TZID=UTC:20260111T170000
DTEND;TZID=UTC:20260111T190000
DTSTAMP:20260420T174533
CREATED:20251211T133127Z
LAST-MODIFIED:20251211T133127Z
UID:7940-1768150800-1768158000@cordobacapitalcofrade.com
SUMMARY:Igualá de costaleros de Nuestro Señor de los Reyes
DESCRIPTION:Igualá de costaleros de Nuestro Señor de los Reyes\, a las 17:00 horas en la Casa de Hdad. sita en la C/ Infante Don Juan Manuel\, 7.
URL:https://cordobacapitalcofrade.com/agenda/iguala-de-costaleros-de-nuestro-senor-de-los-reyes-3/
LOCATION:Casa de Hermandad Vera Cruz\, C. Infante Don Juan Manuel\, 7\, Sur\, 14009 Córdoba\, Córdoba\, España
CATEGORIES:Igualás de costaleros
ATTACH;FMTTYPE=image/jpeg:https://cordobacapitalcofrade.com/wp-content/uploads/2025/12/597862281_1244491647703450_230436482779107212_n.jpg
END:VEVENT
BEGIN:VEVENT
DTSTART;TZID=UTC:20260111T170000
DTEND;TZID=UTC:20260111T190000
DTSTAMP:20260420T174533
CREATED:20251218T160309Z
LAST-MODIFIED:20251218T160309Z
UID:8151-1768150800-1768158000@cordobacapitalcofrade.com
SUMMARY:Igualá de costaleros de María Santísima Nazarena
DESCRIPTION:Igualá de costaleros de María Santísima Nazarena\, a las 17:00 horas en el local de la Hdad. en la C/ Jesús Nazareno.
URL:https://cordobacapitalcofrade.com/agenda/iguala-de-costaleros-de-maria-santisima-nazarena-3/
LOCATION:Local Nazareno\, C/ Jesús Nazareno\, 19. \, Córdoba\, España
CATEGORIES:Igualás de costaleros
ATTACH;FMTTYPE=image/jpeg:https://cordobacapitalcofrade.com/wp-content/uploads/2025/12/600223441_1309295527902490_1235940220448858309_n.jpg
END:VEVENT
BEGIN:VEVENT
DTSTART;TZID=UTC:20260112T210000
DTEND;TZID=UTC:20260112T230000
DTSTAMP:20260420T174533
CREATED:20251208T184503Z
LAST-MODIFIED:20251208T184503Z
UID:7918-1768251600-1768258800@cordobacapitalcofrade.com
SUMMARY:Igualá de costaleros de Nuestro Señor Amarrado a la Columna
DESCRIPTION:Igualá de costaleros de Nuestro Señor Amarrado a la Columna\, a las 21:00 horas en la Parroquia de San Francisco y San Eulogio.
URL:https://cordobacapitalcofrade.com/agenda/iguala-de-costaleros-de-nuestro-senor-amarrado-a-la-columna-3/
LOCATION:Parroquia de San Francisco y San Eulogio\, C. Compás de San Francisco\, 0\, Córdoba\, España
CATEGORIES:Igualás de costaleros
ATTACH;FMTTYPE=image/jpeg:https://cordobacapitalcofrade.com/wp-content/uploads/2025/12/593716297_1296625955837802_1305932844661905577_n.jpg
END:VEVENT
BEGIN:VEVENT
DTSTART;TZID=UTC:20260112T210000
DTEND;TZID=UTC:20260112T230000
DTSTAMP:20260420T174533
CREATED:20260103T143901Z
LAST-MODIFIED:20260103T143901Z
UID:8259-1768251600-1768258800@cordobacapitalcofrade.com
SUMMARY:Igualá de costaleros de Nuestra Señora del Buen Fin
DESCRIPTION:Igualá de costaleros de Nuestra Señora del Buen Fin a las 21:00 horas en el Paseo Cristo del Descendimiento.
URL:https://cordobacapitalcofrade.com/agenda/iguala-de-costaleros-de-nuestra-senora-del-buen-fin/
LOCATION:Paseo Cristo del Descendimiento\, Paseo Cristo del Descendimiento\, Córdoba\, Córdoba\, 14009\, España
CATEGORIES:Igualás de costaleros
ATTACH;FMTTYPE=image/jpeg:https://cordobacapitalcofrade.com/wp-content/uploads/2026/01/605753213_18299513758273736_1933019308959195848_n.jpg
END:VEVENT
BEGIN:VEVENT
DTSTART;TZID=UTC:20260113T080000
DTEND;TZID=UTC:20260113T210000
DTSTAMP:20260420T174533
CREATED:20260112T165919Z
LAST-MODIFIED:20260112T165919Z
UID:8410-1768291200-1768338000@cordobacapitalcofrade.com
SUMMARY:Solemne Besamanos de Nuestra Señora de los Remedios
DESCRIPTION:Solemne Besamanos de Nuestra Señora de los Remedios en horario de 08:00 a 21:00 horas en la Real Parroquia de San Lorenzo Mártir.
URL:https://cordobacapitalcofrade.com/agenda/solemne-besamanos-de-nuestra-senora-de-los-remedios-2/
LOCATION:Real Parroquia de San Lorenzo Mártir\, Pl. de San Lorenzo\, 5\, Córdoba\, España
CATEGORIES:Cultos
ATTACH;FMTTYPE=image/webp:https://cordobacapitalcofrade.com/wp-content/uploads/2026/01/galeria-remedios-cordoba24.webp
END:VEVENT
END:VCALENDAR