BEGIN:VCALENDAR
VERSION:2.0
PRODID:-//Agenda Cofrade 365 Días - ECPv6.3.7//NONSGML v1.0//EN
CALSCALE:GREGORIAN
METHOD:PUBLISH
X-WR-CALNAME:Agenda Cofrade 365 Días
X-ORIGINAL-URL:https://cordobacapitalcofrade.com
X-WR-CALDESC:Eventos para Agenda Cofrade 365 Días
REFRESH-INTERVAL;VALUE=DURATION:PT1H
X-Robots-Tag:noindex
X-PUBLISHED-TTL:PT1H
BEGIN:VTIMEZONE
TZID:UTC
BEGIN:STANDARD
TZOFFSETFROM:+0000
TZOFFSETTO:+0000
TZNAME:UTC
DTSTART:20260101T000000
END:STANDARD
END:VTIMEZONE
BEGIN:VEVENT
DTSTART;TZID=UTC:20260125T080000
DTEND;TZID=UTC:20260125T103000
DTSTAMP:20260420T185323
CREATED:20260123T165609Z
LAST-MODIFIED:20260123T165609Z
UID:8517-1769328000-1769337000@cordobacapitalcofrade.com
SUMMARY:Rosario de la Aurora de María Santísima de la Candelaria
DESCRIPTION:Rosario de la Aurora de María Santísima de la Candelaria desde la Parroquia de San Francisco y San Eulogio siguiendo este recorrido: Salida (09:00 horas)\, Compás de San Francisco\, San Fernando\, San Francisco\, Plaza del Potro\, Lineros\, Candelaria\, Tornillo\, Maese Luis\, Huerto de San Pedro El Real\, Compás de San Francisco y Entrada. 
URL:https://cordobacapitalcofrade.com/agenda/rosario-de-la-aurora-de-maria-santisima-de-la-candelaria/
LOCATION:Parroquia de San Francisco y San Eulogio\, C. Compás de San Francisco\, 0\, Córdoba\, España
CATEGORIES:Rosario
ATTACH;FMTTYPE=image/webp:https://cordobacapitalcofrade.com/wp-content/uploads/2026/01/679de8a30adf6.jpeg.webp
END:VEVENT
BEGIN:VEVENT
DTSTART;TZID=UTC:20260125T100000
DTEND;TZID=UTC:20260125T140000
DTSTAMP:20260420T185323
CREATED:20251208T182155Z
LAST-MODIFIED:20251208T182155Z
UID:7895-1769335200-1769349600@cordobacapitalcofrade.com
SUMMARY:1er Ensayo de costaleros del Santísimo Cristo del Amor
DESCRIPTION:1er Ensayo de costaleros del Santísimo Cristo del Amor\, a las 10:00 horas desde el local de ensayos.
URL:https://cordobacapitalcofrade.com/agenda/1er-ensayo-de-costaleros-del-santisimo-cristo-del-amor-3/
LOCATION:Casa de Hermandad del Amor\, Pje. Cristo del Amor\, 7\, Sur\, 14009 Córdoba\, Córdoba\, España
CATEGORIES:Ensayos Costaleros
ATTACH;FMTTYPE=image/jpeg:https://cordobacapitalcofrade.com/wp-content/uploads/2025/12/Domingo-de-Ramos-2025-1400-scaled.jpg
END:VEVENT
BEGIN:VEVENT
DTSTART;TZID=UTC:20260125T100000
DTEND;TZID=UTC:20260125T140000
DTSTAMP:20260420T185323
CREATED:20260109T141051Z
LAST-MODIFIED:20260109T141051Z
UID:8342-1769335200-1769349600@cordobacapitalcofrade.com
SUMMARY:1er Ensayo de costaleros de Nuestra Señora del Mayor Dolor en su Soledad
DESCRIPTION:1er Ensayo de costaleros de Nuestra Señora del Mayor Dolor en su Soledad\, a las 10:00 horas desde la Cuesta de San Cayetano.
URL:https://cordobacapitalcofrade.com/agenda/1er-ensayo-de-costaleros-de-nuestra-senora-del-mayor-dolor-en-su-soledad-3/
LOCATION:Cuesta de San Cayetano\, C. Cta. de San Cayetano\, 2\, Centro\, 14001 Córdoba\, Córdoba\, Spain
CATEGORIES:Ensayos Costaleros
ATTACH;FMTTYPE=image/jpeg:https://cordobacapitalcofrade.com/wp-content/uploads/2026/01/492153088_704393475579846_2636355733893296235_n.jpg
END:VEVENT
BEGIN:VEVENT
DTSTART;TZID=UTC:20260125T110000
DTEND;TZID=UTC:20260125T123000
DTSTAMP:20260420T185323
CREATED:20251126T135001Z
LAST-MODIFIED:20251126T135001Z
UID:7705-1769338800-1769344200@cordobacapitalcofrade.com
SUMMARY:Igualá de costaleros del Santísimo Cristo de la Clemencia
DESCRIPTION:Igualá de costaleros del Santísimo Cristo de la Clemencia\, a las 11:00 horas en el local de salida de la Hermandad en la Plaza de Capuchinos.
URL:https://cordobacapitalcofrade.com/agenda/iguala-de-costaleros-del-santisimo-cristo-de-la-clemencia-3/
LOCATION:Patio Casa Hermandad de los Dolores\, Plaza de Caluchinos\, 6\, Córdoba\, Córdoba\, 14001\, España
CATEGORIES:Igualás de costaleros
ATTACH;FMTTYPE=image/jpeg:https://cordobacapitalcofrade.com/wp-content/uploads/2025/11/G6nMiszWIAAA6QN.jpeg
END:VEVENT
BEGIN:VEVENT
DTSTART;TZID=UTC:20260125T110000
DTEND;TZID=UTC:20260125T130000
DTSTAMP:20260420T185323
CREATED:20251211T161017Z
LAST-MODIFIED:20251211T161017Z
UID:7996-1769338800-1769346000@cordobacapitalcofrade.com
SUMMARY:Igualá de costaleros del Santísimo Cristo de Gracia
DESCRIPTION:Igualá de costaleros del Santísimo Cristo de Gracia\, a las 11:00 horas en la Nave de la Hermandad situada en la C/ Metalúrgicos\, 85.
URL:https://cordobacapitalcofrade.com/agenda/iguala-de-costaleros-del-santisimo-cristo-de-gracia-3/
LOCATION:Local Cristo de Gracia\, Hdad. Cristo de Gracia\, C. los Metalúrgicos\, 85\, 14014 Córdoba\, Córdoba\, España
CATEGORIES:Igualás de costaleros
ATTACH;FMTTYPE=image/jpeg:https://cordobacapitalcofrade.com/wp-content/uploads/2025/12/587290398_18494169460073126_6357222994667122307_n.jpg
END:VEVENT
BEGIN:VEVENT
DTSTART;TZID=UTC:20260125T110000
DTEND;TZID=UTC:20260125T130000
DTSTAMP:20260420T185323
CREATED:20251218T143909Z
LAST-MODIFIED:20251218T143909Z
UID:8139-1769338800-1769346000@cordobacapitalcofrade.com
SUMMARY:Igualá de costaleros de Nuestro Padre Jesús Nazareno
DESCRIPTION:Igualá de costaleros de Nuestro Padre Jesús Nazareno\, a las 11:00 horas en el local de la Hdad. en la C/ Jesús Nazareno.
URL:https://cordobacapitalcofrade.com/agenda/iguala-de-costaleros-de-nuestro-padre-jesus-nazareno-3/
LOCATION:Local Nazareno\, C/ Jesús Nazareno\, 19. \, Córdoba\, España
CATEGORIES:Igualás de costaleros
ATTACH;FMTTYPE=image/jpeg:https://cordobacapitalcofrade.com/wp-content/uploads/2025/12/597393810_1309283501237026_2934376023217087437_n.jpg
END:VEVENT
BEGIN:VEVENT
DTSTART;TZID=UTC:20260125T123000
DTEND;TZID=UTC:20260125T133000
DTSTAMP:20260420T185323
CREATED:20260116T145122Z
LAST-MODIFIED:20260116T145122Z
UID:8455-1769344200-1769347800@cordobacapitalcofrade.com
SUMMARY:Función Principal de María Santísima de la Paz y Esperanza Coronada
DESCRIPTION:Función Principal de María Santísima de la Paz y Esperanza Coronada\, a las 12:30 horas en la Iglesia Conventual del Santo Ángel (Capuchinos). La Misa estará presidida por D. Salvador Aguilera López\, presbítero de la Archidiócesis Primada de Toledo\, oficial de la Santa Sede y consultor del Dicasterio para las Iglesias Orientales.
URL:https://cordobacapitalcofrade.com/agenda/funcion-principal-de-maria-santisima-de-la-paz-y-esperanza-coronada/
LOCATION:Iglesia Conventual del Santo Ángel (Capuchinos)\, Pl. de Capuchinos\, 5\, Córdoba\, España
CATEGORIES:Cultos
ATTACH;FMTTYPE=image/jpeg:https://cordobacapitalcofrade.com/wp-content/uploads/2026/01/481665649_980001334265086_6522878249999563686_n.jpg
END:VEVENT
BEGIN:VEVENT
DTSTART;TZID=UTC:20260125T133000
DTEND;TZID=UTC:20260125T140000
DTSTAMP:20260420T185323
CREATED:20260120T142116Z
LAST-MODIFIED:20260120T142116Z
UID:8489-1769347800-1769349600@cordobacapitalcofrade.com
SUMMARY:Presentación de los actos programados para este año 2026 de la Hermandad de San Álvaro
DESCRIPTION:Presentación de los actos programados para este año 2026\, a las 13:30 horas en el Santuario de Scala Coeli (Santo Domingo).
URL:https://cordobacapitalcofrade.com/agenda/presentacion-de-los-actos-programados-para-este-ano-2026-de-la-hermandad-de-san-alvaro/
LOCATION:Santuario de Santo Domingo\, Carretera Santo Domingo\, Córdoba\, Córdoba\, 14029\, España
CATEGORIES:Presentación
ATTACH;FMTTYPE=image/jpeg:https://cordobacapitalcofrade.com/wp-content/uploads/2026/01/san-alvaro-cordoba-kV8H-620x349@abc.jpg
END:VEVENT
BEGIN:VEVENT
DTSTART;TZID=UTC:20260125T170000
DTEND;TZID=UTC:20260125T190000
DTSTAMP:20260420T185323
CREATED:20251211T143717Z
LAST-MODIFIED:20251211T143717Z
UID:7973-1769360400-1769367600@cordobacapitalcofrade.com
SUMMARY:Igualá de costaleros de Nuestro Padre Jesús del Calvario
DESCRIPTION:Igualá de costaleros de Nuestro Padre Jesús del Calvario\, a las 17:00 horas en la Casa de Hdad. sita en la C/ Prolongación Escañuela\, 1.
URL:https://cordobacapitalcofrade.com/agenda/iguala-de-costaleros-de-nuestro-padre-jesus-del-calvario-3/
LOCATION:Casa de Hermandad del Calvario\, C. Escañuela\, 1\, Centro\, 14002 Córdoba\, Córdoba\, España
CATEGORIES:Igualás de costaleros
ATTACH;FMTTYPE=image/jpeg:https://cordobacapitalcofrade.com/wp-content/uploads/2025/12/G71SB6EXgAA5C6i.jpg
END:VEVENT
BEGIN:VEVENT
DTSTART;TZID=UTC:20260125T193000
DTEND;TZID=UTC:20260125T203000
DTSTAMP:20260420T185323
CREATED:20260120T141408Z
LAST-MODIFIED:20260120T141408Z
UID:8487-1769369400-1769373000@cordobacapitalcofrade.com
SUMMARY:Solemne Misa en honor del Milagroso Niño Jesús de Praga
DESCRIPTION:Solemne Misa en honor del Milagroso Niño Jesús de Praga\, a las 19:30 horas en el Santuario de Nuestra Señora del Carmen.
URL:https://cordobacapitalcofrade.com/agenda/solemne-misa-en-honor-del-milagroso-nino-jesus-de-praga/
LOCATION:Santuario de Nuestra Señora del Carmen\, C. Cta. de San Cayetano\, Centro\, 14001 Córdoba\, Córdoba\, España
CATEGORIES:Cultos
ATTACH;FMTTYPE=image/jpeg:https://cordobacapitalcofrade.com/wp-content/uploads/2026/01/487928162_1072222411606615_3143719876681643307_n.jpg
END:VEVENT
BEGIN:VEVENT
DTSTART;TZID=UTC:20260126T210000
DTEND;TZID=UTC:20260126T235900
DTSTAMP:20260420T185323
CREATED:20251123T134446Z
LAST-MODIFIED:20251123T134446Z
UID:7630-1769461200-1769471940@cordobacapitalcofrade.com
SUMMARY:1er Ensayo de costaleros de Nuestro Padre Jesús Nazareno de la Santa Faz
DESCRIPTION:1er Ensayo de costaleros de Nuestro Padre Jesús Nazareno de la Santa Faz\, a las 21:00 horas desde el local de ensayos situado en la C/ González López.
URL:https://cordobacapitalcofrade.com/agenda/1er-ensayo-de-costaleros-de-nuestro-padre-jesus-nazareno-de-la-santa-faz-3/
LOCATION:Local de Ensayos Parroquia de la Trinidad\, C. González López\, 1\, Centro\, 14003 Córdoba\, Córdoba\, España
CATEGORIES:Ensayos Costaleros
ATTACH;FMTTYPE=image/jpeg:https://cordobacapitalcofrade.com/wp-content/uploads/2025/11/491699381_702765665742627_5061878821266987431_n.jpg
END:VEVENT
BEGIN:VEVENT
DTSTART;TZID=UTC:20260126T210000
DTEND;TZID=UTC:20260126T235900
DTSTAMP:20260420T185323
CREATED:20260126T155749Z
LAST-MODIFIED:20260126T155749Z
UID:8558-1769461200-1769471940@cordobacapitalcofrade.com
SUMMARY:1er Ensayo de costaleros y mudá del paso del Señor Amarrado a la Columna
DESCRIPTION:1er Ensayo de costaleros y mudá del paso del Señor Amarrado a la Columna\, a las 21:00 horas desde el local de ensayos en el Pasaje Platero Alcántara.
URL:https://cordobacapitalcofrade.com/agenda/1er-ensayo-de-costaleros-y-muda-del-paso-del-senor-amarrado-a-la-columna/
CATEGORIES:Ensayos Costaleros
ATTACH;FMTTYPE=image/jpeg:https://cordobacapitalcofrade.com/wp-content/uploads/2026/01/Domingo-de-Ramos-2025-0464-1-scaled.jpg
END:VEVENT
BEGIN:VEVENT
DTSTART;TZID=UTC:20260127T200000
DTEND;TZID=UTC:20260130T210000
DTSTAMP:20260420T185323
CREATED:20260123T173547Z
LAST-MODIFIED:20260123T173547Z
UID:8542-1769544000-1769806800@cordobacapitalcofrade.com
SUMMARY:Solemne Quinario en honor de Nuestro Padre Jesús del Perdón
DESCRIPTION:Solemne Quinario en honor de Nuestro Padre Jesús del Perdón\, a las 20:30 horas en la Parroquia de San Juan y Todos los Santos (Trinidad). Previamente\, a las 20:00 horas\, Exposición del Santísimo y Ejercicio del Quinario.
URL:https://cordobacapitalcofrade.com/agenda/solemne-quinario-en-honor-de-nuestro-padre-jesus-del-perdon/
LOCATION:Parroquia de la Trinidad\, Plaza de la Trinidad\, Córdoba\, España
CATEGORIES:Cultos
ATTACH;FMTTYPE=image/jpeg:https://cordobacapitalcofrade.com/wp-content/uploads/2026/01/Quinario-Via-Crucis-Santa-Faz-y-Perdon-0156-scaled.jpg
END:VEVENT
BEGIN:VEVENT
DTSTART;TZID=UTC:20260128T200000
DTEND;TZID=UTC:20260128T204500
DTSTAMP:20260420T185323
CREATED:20260123T171053Z
LAST-MODIFIED:20260123T171053Z
UID:8524-1769630400-1769633100@cordobacapitalcofrade.com
SUMMARY:1er día del Solemne Triduo itinerante de San Juan Bosco
DESCRIPTION:1er día del Solemne Triduo itinerante de San Juan Bosco con motivo del 125 aniversario de la llegada de los Salesianos a Córdoba\, a las 20:00 horas en la Parroquia de Nuestra Señora de Gracia (Trinitarios).
URL:https://cordobacapitalcofrade.com/agenda/1er-dia-del-solemne-triduo-itinerante-de-san-juan-bosco/
LOCATION:Parroquia de Ntra. Sra. De Gracia y San Eulogio (P.P. Trinitarios)\, Plaza Cristo de Gracia\, 5\, Córdoba\, Córdoba\, 14002\, España
CATEGORIES:Cultos
ATTACH;FMTTYPE=image/jpeg:https://cordobacapitalcofrade.com/wp-content/uploads/2026/01/489727683_1097870539050205_404073209643097286_n.jpg
END:VEVENT
BEGIN:VEVENT
DTSTART;TZID=UTC:20260128T200000
DTEND;TZID=UTC:20260128T210000
DTSTAMP:20260420T185323
CREATED:20260123T170046Z
LAST-MODIFIED:20260123T170046Z
UID:8520-1769630400-1769634000@cordobacapitalcofrade.com
SUMMARY:Solemne Eucaristía en honor de Santo Tomás de Aquino
DESCRIPTION:Solemne Eucaristía en honor de Santo Tomás de Aquino\, a las 20:00 horas en la Iglesia del Juramento de San Rafael.
URL:https://cordobacapitalcofrade.com/agenda/solemne-eucaristia-en-honor-de-santo-tomas-de-aquino/
LOCATION:Iglesia del Juramento de San Rafael\, Pl. de San Rafael\, 8\, Córdoba\, España
CATEGORIES:Cultos
ATTACH;FMTTYPE=image/jpeg:https://cordobacapitalcofrade.com/wp-content/uploads/2026/01/Santo-Tomas-2026-scaled-1.jpg
END:VEVENT
BEGIN:VEVENT
DTSTART;TZID=UTC:20260128T210000
DTEND;TZID=UTC:20260128T214500
DTSTAMP:20260420T185323
CREATED:20260123T171611Z
LAST-MODIFIED:20260123T171611Z
UID:8527-1769634000-1769636700@cordobacapitalcofrade.com
SUMMARY:Traslado de San Juan Bosco hasta la Real Parroquia de San Lorenzo Mártir
DESCRIPTION:Traslado de San Juan Bosco desde la Parroquia de Nuestra Señora de Gracia (Trinitarios) hasta la Real Parroquia de San Lorenzo Mártir siguiendo este recorrido: Salida (21:00 horas)\, Plaza Cristo de Gracia\, María Auxiliadora\, Plaza de San Lorenzo y Entrada. 
URL:https://cordobacapitalcofrade.com/agenda/traslado-de-san-juan-bosco-hasta-la-real-parroquia-de-san-lorenzo-martir/
LOCATION:Parroquia de Ntra. Sra. De Gracia y San Eulogio (P.P. Trinitarios)\, Plaza Cristo de Gracia\, 5\, Córdoba\, Córdoba\, 14002\, España
CATEGORIES:Traslados
ATTACH;FMTTYPE=image/jpeg:https://cordobacapitalcofrade.com/wp-content/uploads/2026/01/Procesion-Maria-Auxiliadora-2025-0024-scaled.jpg
END:VEVENT
BEGIN:VEVENT
DTSTART;TZID=UTC:20260128T213000
DTEND;TZID=UTC:20260128T233000
DTSTAMP:20260420T185323
CREATED:20251214T132839Z
LAST-MODIFIED:20251214T132839Z
UID:8049-1769635800-1769643000@cordobacapitalcofrade.com
SUMMARY:Igualá de costaleros de Nuestro Padre Jesús de los Reyes
DESCRIPTION:Igualá de costaleros de Nuestro Padre Jesús de los Reyes\, a las 21:30 horas en la Casa de Hermandad sita en la C/ Santa María de Gracia\, 14.
URL:https://cordobacapitalcofrade.com/agenda/iguala-de-costaleros-de-nuestro-padre-jesus-de-los-reyes-3/
LOCATION:Casa de Hermandad de la Borriquita\, C. Sta. María de Gracia\, 14\, Centro\, 14002 Córdoba\, Córdoba\, Spain
CATEGORIES:Igualás de costaleros
ATTACH;FMTTYPE=image/jpeg:https://cordobacapitalcofrade.com/wp-content/uploads/2025/12/597687535_865790439298053_612824546023708469_n.jpg
END:VEVENT
BEGIN:VEVENT
DTSTART;TZID=UTC:20260129T193000
DTEND;TZID=UTC:20260131T203000
DTSTAMP:20260420T185323
CREATED:20260124T134914Z
LAST-MODIFIED:20260124T134914Z
UID:8550-1769715000-1769891400@cordobacapitalcofrade.com
SUMMARY:Solemne Triduo de María Santísima de Salud y Consuelo
DESCRIPTION:Solemne Triduo de María Santísima de Salud y Consuelo\, a las 19:30 horas en la Parroquia de Nuestra Señora del Rosario.
URL:https://cordobacapitalcofrade.com/agenda/solemne-triduo-de-maria-santisima-de-salud-y-consuelo/
LOCATION:Iglesia de Ntra. Sra. Del Rosario\, Plaza de Electromecánicas\, Córdoba\, Córdoba\, 14005\, España
CATEGORIES:Cultos
ATTACH;FMTTYPE=image/png:https://cordobacapitalcofrade.com/wp-content/uploads/2026/01/Captura-de-pantalla-2026-01-24-144806.png
END:VEVENT
BEGIN:VEVENT
DTSTART;TZID=UTC:20260129T200000
DTEND;TZID=UTC:20260129T204500
DTSTAMP:20260420T185323
CREATED:20260123T171805Z
LAST-MODIFIED:20260123T171805Z
UID:8531-1769716800-1769719500@cordobacapitalcofrade.com
SUMMARY:2º día del Solemne Triduo itinerante de San Juan Bosco
DESCRIPTION:2º día del Solemne Triduo itinerante de San Juan Bosco con motivo del 125 aniversario de la llegada de los Salesianos a Córdoba\, a las 20:00 horas en la Real Parroquia de San Lorenzo Mártir.
URL:https://cordobacapitalcofrade.com/agenda/2o-dia-del-solemne-triduo-itinerante-de-san-juan-bosco/
LOCATION:Real Parroquia de San Lorenzo Mártir\, Pl. de San Lorenzo\, 5\, Córdoba\, España
CATEGORIES:Cultos
ATTACH;FMTTYPE=image/jpeg:https://cordobacapitalcofrade.com/wp-content/uploads/2026/01/489727683_1097870539050205_404073209643097286_n-1.jpg
END:VEVENT
BEGIN:VEVENT
DTSTART;TZID=UTC:20260129T210000
DTEND;TZID=UTC:20260129T220000
DTSTAMP:20260420T185323
CREATED:20260123T172116Z
LAST-MODIFIED:20260123T172116Z
UID:8533-1769720400-1769724000@cordobacapitalcofrade.com
SUMMARY:Traslado de San Juan Bosco hasta la Parroquia de San Andrés Apóstol
DESCRIPTION:Traslado de San Juan Bosco desde la Real Parroquia de San Lorenzo Mártir hasta la Parroquia de San Andrés Apóstol siguiendo el siguiente itinerario: Salida (21:00 horas)\, Plaza de San Lorenzo\, Roelas\, Plaza de San Rafael\, Plaza Poeta Juan Bernier\, Buen Suceso\, Arroyo de San Andrés\, Hermanos López Diéguez\, Plaza de San Andrés y Entrada. 
URL:https://cordobacapitalcofrade.com/agenda/traslado-de-san-juan-bosco-hasta-la-parroquia-de-san-andres-apostol/
LOCATION:Real Parroquia de San Lorenzo Mártir\, Pl. de San Lorenzo\, 5\, Córdoba\, España
CATEGORIES:Traslados
ATTACH;FMTTYPE=image/jpeg:https://cordobacapitalcofrade.com/wp-content/uploads/2026/01/Procesion-Maria-Auxiliadora-2025-0024-scaled.jpg
END:VEVENT
BEGIN:VEVENT
DTSTART;TZID=UTC:20260129T210000
DTEND;TZID=UTC:20260129T230000
DTSTAMP:20260420T185323
CREATED:20260109T160120Z
LAST-MODIFIED:20260109T160120Z
UID:8360-1769720400-1769727600@cordobacapitalcofrade.com
SUMMARY:Igualá de costaleros de Nuestro Padre Jesús en su Soberano Poder
DESCRIPTION:Igualá de costaleros de Nuestro Padre Jesús en su Soberano Poder\, a las 21:00 horas en la Casa de Hdad. sita en la Plaza Gonzalo de Ayora\, 2.
URL:https://cordobacapitalcofrade.com/agenda/iguala-de-costaleros-de-nuestro-padre-jesus-en-su-soberano-poder-3/
LOCATION:Casa de Hermandad de la Quinta Angustia\, Pl. Gonzalo de Ayora\, 3\, Centro\, 14001 Córdoba\, Córdoba\, España
CATEGORIES:Igualás de costaleros
ATTACH;FMTTYPE=image/jpeg:https://cordobacapitalcofrade.com/wp-content/uploads/2026/01/612023868_1322307826602993_560280194716047866_n.jpg
END:VEVENT
BEGIN:VEVENT
DTSTART;TZID=UTC:20260129T210000
DTEND;TZID=UTC:20260129T235900
DTSTAMP:20260420T185323
CREATED:20251218T141949Z
LAST-MODIFIED:20251218T141949Z
UID:8136-1769720400-1769731140@cordobacapitalcofrade.com
SUMMARY:Ensayo de costaleros del Beato Padre Cristobal de Santa Catalina
DESCRIPTION:Ensayo de costaleros del Beato Padre Cristobal de Santa Catalina a las 21:00 horas desde el local de la Hermandad en la C/ Jesús Nazareno.
URL:https://cordobacapitalcofrade.com/agenda/ensayo-de-costaleros-del-beato-padre-cristobal-de-santa-catalina/
LOCATION:Local Nazareno\, C/ Jesús Nazareno\, 19. \, Córdoba\, España
CATEGORIES:Ensayos Costaleros
ATTACH;FMTTYPE=image/jpeg:https://cordobacapitalcofrade.com/wp-content/uploads/2025/12/Procesion-Beato-Padre-Cristobal-0023-scaled.jpg
END:VEVENT
BEGIN:VEVENT
DTSTART;TZID=UTC:20260130T200000
DTEND;TZID=UTC:20260130T204500
DTSTAMP:20260420T185323
CREATED:20260123T172351Z
LAST-MODIFIED:20260123T172351Z
UID:8535-1769803200-1769805900@cordobacapitalcofrade.com
SUMMARY:3er día del Solemne Triduo itinerante de San Juan Bosco
DESCRIPTION:3er día del Solemne Triduo itinerante de San Juan Bosco con motivo del 125 aniversario de la llegada de los Salesianos a Córdoba\, a las 20:00 horas en la Parroquia de San Andrés Apóstol.
URL:https://cordobacapitalcofrade.com/agenda/3er-dia-del-solemne-triduo-itinerante-de-san-juan-bosco/
LOCATION:Parroquia de San Andrés Apóstol\, Pl. San Andrés\, 0\, Córdoba\, España
CATEGORIES:Cultos
ATTACH;FMTTYPE=image/jpeg:https://cordobacapitalcofrade.com/wp-content/uploads/2026/01/489727683_1097870539050205_404073209643097286_n-1.jpg
END:VEVENT
BEGIN:VEVENT
DTSTART;TZID=UTC:20260130T210000
DTEND;TZID=UTC:20260130T220000
DTSTAMP:20260420T185323
CREATED:20260123T172636Z
LAST-MODIFIED:20260123T172636Z
UID:8537-1769806800-1769810400@cordobacapitalcofrade.com
SUMMARY:Traslado de San Juan Bosco al Santuario de María Auxiliadora
DESCRIPTION:Traslado de San Juan Bosco desde la Parroquia de San Andrés Apóstol hasta el Santuario de María Auxiliadora con este recorrido: Salida (21:00 horas)\, Plaza de San Andrés\, Hermanos López Diéguez\, Buen Suceso\, Plaza del Poeta Juan Bernier\, Plaza de San Rafael\, Roelas\, Plaza de San Lorenzo\, María Auxiliadora y Entrada. 
URL:https://cordobacapitalcofrade.com/agenda/traslado-de-san-juan-bosco-al-santuario-de-maria-auxiliadora/
LOCATION:Parroquia de San Andrés Apóstol\, Pl. San Andrés\, 0\, Córdoba\, España
CATEGORIES:Traslados
ATTACH;FMTTYPE=image/jpeg:https://cordobacapitalcofrade.com/wp-content/uploads/2026/01/Procesion-Maria-Auxiliadora-2025-0024-scaled.jpg
END:VEVENT
BEGIN:VEVENT
DTSTART;TZID=UTC:20260130T210000
DTEND;TZID=UTC:20260130T235900
DTSTAMP:20260420T185323
CREATED:20260109T140144Z
LAST-MODIFIED:20260109T140144Z
UID:8333-1769806800-1769817540@cordobacapitalcofrade.com
SUMMARY:1er Ensayo de costaleros de María Santísima de la Paz y Esperanza Coronada
DESCRIPTION:1er Ensayo de costaleros de María Santísima de la Paz y Esperanza Coronada\, a las 21:00 horas en la Plaza de Capuchinos.
URL:https://cordobacapitalcofrade.com/agenda/1er-ensayo-de-costaleros-de-maria-santisima-de-la-paz-y-esperanza-coronada-2/
LOCATION:Plaza de Capuchinos\, Cordoba\, Cordoba\, Cordoba\, 14001\, España
CATEGORIES:Ensayos Costaleros
ATTACH;FMTTYPE=image/jpeg:https://cordobacapitalcofrade.com/wp-content/uploads/2026/01/492001839_703575062328354_2158377355235838987_n.jpg
END:VEVENT
BEGIN:VEVENT
DTSTART;TZID=UTC:20260130T211500
DTEND;TZID=UTC:20260130T235900
DTSTAMP:20260420T185323
CREATED:20251128T160054Z
LAST-MODIFIED:20251128T160054Z
UID:7738-1769807700-1769817540@cordobacapitalcofrade.com
SUMMARY:1er Ensayo de costaleros del Santísimo Cristo de la Caridad
DESCRIPTION:1er Ensayo de costaleros del Santísimo Cristo de la Caridad\, a las 21:15 horas desde el local de ensayos.
URL:https://cordobacapitalcofrade.com/agenda/1er-ensayo-de-costaleros-del-santisimo-cristo-de-la-caridad-3/
CATEGORIES:Ensayos Costaleros
ATTACH;FMTTYPE=image/jpeg:https://cordobacapitalcofrade.com/wp-content/uploads/2025/11/491987977_704388435580350_1148144473558597401_n.jpg
END:VEVENT
BEGIN:VEVENT
DTSTART;TZID=UTC:20260131T110000
DTEND;TZID=UTC:20260131T130000
DTSTAMP:20260420T185323
CREATED:20260126T160049Z
LAST-MODIFIED:20260126T160049Z
UID:8561-1769857200-1769864400@cordobacapitalcofrade.com
SUMMARY:Igualá de costaleros del Santísimo Cristo de la Almas y Nuestra Señora de la Salud y Traspaso
DESCRIPTION:Igualá de costaleros del Santísimo Cristo de la Almas y Nuestra Señora de la Salud y Traspaso\, a las 11:00 horas en la Parroquia de Nuestra Señora de la Consolación.
URL:https://cordobacapitalcofrade.com/agenda/iguala-de-costaleros-del-santisimo-cristo-de-la-almas-y-nuestra-senora-de-la-salud-y-traspaso/
LOCATION:Parroquia de Nuestra Señora de la Consolación\, C. Historiador Dozy\, 20\, Córdoba\, España
CATEGORIES:Ensayos Costaleros
ATTACH;FMTTYPE=image/jpeg:https://cordobacapitalcofrade.com/wp-content/uploads/2026/01/611548441_1302085428623295_3521755149575837165_n.jpg
END:VEVENT
BEGIN:VEVENT
DTSTART;TZID=UTC:20260131T130000
DTEND;TZID=UTC:20260131T140000
DTSTAMP:20260420T185323
CREATED:20260123T173807Z
LAST-MODIFIED:20260123T173807Z
UID:8545-1769864400-1769868000@cordobacapitalcofrade.com
SUMMARY:Fiesta de Regla de la Hermandad del Perdón
DESCRIPTION:Fiesta de Regla de la Hermandad a las 13:00 horas en la Parroquia de San Juan y Todos los Santos (Trinidad).
URL:https://cordobacapitalcofrade.com/agenda/fiesta-de-regla-de-la-hermandad-del-perdon/
LOCATION:Parroquia de la Trinidad\, Plaza de la Trinidad\, Córdoba\, España
CATEGORIES:Cultos
ATTACH;FMTTYPE=image/jpeg:https://cordobacapitalcofrade.com/wp-content/uploads/2026/01/Quinario-Via-Crucis-Santa-Faz-y-Perdon-0156-scaled.jpg
END:VEVENT
BEGIN:VEVENT
DTSTART;TZID=UTC:20260131T130000
DTEND;TZID=UTC:20260131T140000
DTSTAMP:20260420T185323
CREATED:20260126T160345Z
LAST-MODIFIED:20260126T160345Z
UID:8564-1769864400-1769868000@cordobacapitalcofrade.com
SUMMARY:Exaltación al Beato Padre Cristobal de Santa Catalina
DESCRIPTION:Exaltación al Beato Padre Cristobal de Santa Catalina a cargo de D. Ignacio Sierra Quirós\, Párroco del Santuario de Nuestra Señora de la Fuensanta\, a las 13:00 horas en la Iglesia Hospital de Jesús Nazareno.
URL:https://cordobacapitalcofrade.com/agenda/exaltacion-al-beato-padre-cristobal-de-santa-catalina/
LOCATION:Iglesia Hospital de Jesús Nazareno\, C. Jesús Nazareno\, 11\, Córdoba\, España
CATEGORIES:Exaltación
ATTACH;FMTTYPE=image/jpeg:https://cordobacapitalcofrade.com/wp-content/uploads/2026/01/e0f29bcf-padre-cristobal-de-santa-catalina-c-diocesis-de-cordoba.jpg
END:VEVENT
BEGIN:VEVENT
DTSTART;TZID=UTC:20260131T160000
DTEND;TZID=UTC:20260131T180000
DTSTAMP:20260420T185323
CREATED:20260106T175705Z
LAST-MODIFIED:20260106T175705Z
UID:8282-1769875200-1769882400@cordobacapitalcofrade.com
SUMMARY:Igualá de costaleros de Nuestro Padre Jesús Humilde en su Coronación de Espinas
DESCRIPTION:Igualá de costaleros de Nuestro Padre Jesús Humilde en su Coronación de Espinas\, a las 16:00 horas en la Casa de Hermandad sita en la Avenida Agrupación Córdoba\, 11.
URL:https://cordobacapitalcofrade.com/agenda/iguala-de-costaleros-de-nuestro-padre-jesus-humilde-en-su-coronacion-de-espinas-2/
LOCATION:Casa de Hermandad de la Merc\, Av. Agrupación Córdoba\, 11\, Levante\, 14007 Córdoba\, Córdoba\, España
CATEGORIES:Igualás de costaleros
ATTACH;FMTTYPE=image/jpeg:https://cordobacapitalcofrade.com/wp-content/uploads/2026/01/608758972_1177253164575380_7393702872185913003_n.jpg
END:VEVENT
END:VCALENDAR